BEGIN:VCALENDAR
VERSION:2.0
PRODID:-//ChamberMaster//Event Calendar 2.0//EN
METHOD:PUBLISH
X-PUBLISHED-TTL:P3D
REFRESH-INTERVAL:P3D
CALSCALE:GREGORIAN
BEGIN:VEVENT
DTSTART:20160423T000000Z
DTEND:20160423T050000Z
X-MICROSOFT-CDO-ALLDAYEVENT:FALSE
SUMMARY:Winery of the Month
DESCRIPTION:Twin Pine Casino & Hotel  www.twinpine.com  Featured Winery of the Month : BOATIQUE WINERY\, Kelseyville CA  Date: Friday April 22\, 2016  $2 Wine Tasting 5:00pm 7:pm  3 Course Wine Pairing Dinner  by Chef Tommy Garrett (price TBA)  Enjoy  art by local artist  RSVP with Susan Conley 707-987-1257  Come experience fine wine from Lake County.  This month featuring Boatique Winery.    Boatique Winery's concept combines the blending of two passions: the production of high-quality wines and an amazing collection of restored rare antique wooden boats.  Madi and Robert Mount started their adventure into winemaking after producing a highly acclaimed Zinfandel from a one-acre vineyard at their home in Santa Rosa. This positive experience piqued their interest in all aspects of wine production and led to their decision to expand involvement in the wine industry. In 2011 they purchased a vineyard in the spectacular Red Hills AVA in Lake County\, California.  A Wine tasting from 5:00pm - 7:pm\, followed by a delicious chef prepared wine pairing meal\, by Chef Tommy Garrett.
X-ALT-DESC;FMTTYPE=text/html:<p align="center"><strong>Twin Pine Casino &amp\; Hotel</strong></p>  <p align="center">www.twinpine.com</p>  <p align="center">Featured Winery of the Month :<strong> BOATIQUE WINERY</strong>\, Kelseyville CA</p>  <p align="center">Date: Friday April 22\, 2016</p>  <p align="center">$2 Wine Tasting 5:00pm&ndash\;7:pm</p>  <p align="center">3 Course Wine Pairing Dinner&nbsp\; by Chef Tommy Garrett (price TBA)</p>  <p align="center">Enjoy &nbsp\;art by local artist</p>  <p align="center">RSVP with Susan Conley 707-987-1257</p>  <p>Come experience fine wine from Lake County. &nbsp\;This month featuring <strong>Boatique Winery</strong>. &nbsp\;</p>  <p><span style="color: rgb(116\, 116\, 116)\; font-family: 'PT Sans'\, Arial\, Helvetica\, sans-serif\; font-size: 13px\; line-height: 20px\; background-color: rgb(255\, 255\, 255)\;">Boatique Winery&rsquo\;s&nbsp\;concept combines the blending of two passions: the production of high-quality wines and an amazing collection of restored rare antique wooden boats.</span></p>  <p style="box-sizing: border-box\; margin-bottom: 20px\; color: rgb(116\, 116\, 116)\; font-family: 'PT Sans'\, Arial\, Helvetica\, sans-serif\; font-size: 13px\; line-height: 20px\; background-color: rgb(255\, 255\, 255)\;">Madi and Robert Mount started their adventure into winemaking after producing a highly acclaimed Zinfandel from a one-acre vineyard at their home in Santa Rosa. This positive experience piqued their interest in all aspects of wine production and led to their decision to expand involvement in the wine industry. In 2011 they purchased a vineyard in the spectacular Red Hills AVA in Lake County\, California.</p>  <p style="box-sizing: border-box\; margin-bottom: 20px\; color: rgb(116\, 116\, 116)\; font-family: 'PT Sans'\, Arial\, Helvetica\, sans-serif\; font-size: 13px\; line-height: 20px\; background-color: rgb(255\, 255\, 255)\;"><span style="color:#000000\;"><strong>A Wine tasting from 5:00pm - 7:pm\, followed by a delicious chef prepared wine pairing meal\, by Chef Tommy Garrett.</strong></span></p> 
LOCATION:TWIN PINE CASINO & HOTEL
UID:e.1531.3454
SEQUENCE:3
DTSTAMP:20260421T054444Z
URL:https://members.psaeger.com/events/details/winery-of-the-month-04-22-2016-3454
END:VEVENT

END:VCALENDAR
