BEGIN:VCALENDAR
VERSION:2.0
PRODID:-//ChamberMaster//Event Calendar 2.0//EN
METHOD:PUBLISH
X-PUBLISHED-TTL:P3D
REFRESH-INTERVAL:P3D
CALSCALE:GREGORIAN
BEGIN:VEVENT
DTSTART:20160228T213000Z
DTEND:20160229T000000Z
X-MICROSOFT-CDO-ALLDAYEVENT:FALSE
SUMMARY:Wine & Art Class - Acrylic Paints
DESCRIPTION:Artist Anna Sabalone and Lake County Wine Studio are presenting an ongoing series of art classes/parties.  The next class will be held on February 28\, 1:30 to 4:00 pm.  During the 2-1/2 hour class\, Sabalone will demonstrate with acrylic paints and participants will then paint a scene of a sandpiper on a beach.\n  \n All supplies will be provided along with a glass of wine for sipping for $40 each class.   Each class in future months will focus specifically on a different art medium.\n \n Sabalone was born and raised in Lake County.  She has been involved in the Lake County Arts Council since her teen years.  She attended the University of California\, Santa Barbara and the University of Leeds\, England for her undergraduate degree in English\, History and Anthropology.  She earned her teaching credential and Masters of Education from UCSB and has been teaching Art\, English\, History and Academic Decathlon at Upper Lake High School since 2008.  \n \n For class schedule\, reservations and additional information\, contact Susan at (707) 293-8752\n  \n Lake County Wine Studio is both a gallery for display of arts and a tasting room\, wine bar and retail shop for the fine wines of Lake County.  Artist's shows are held on a monthly basis with art and wine receptions held the first Friday and subsequent Saturday of each month.\n  \n The gallery is located at 9505 Main Street in Upper Lake.   Days and hours open are Monday 1:00-6:30 PM\; Thursday\, Saturday and Sunday from 1 to 7 PM and Friday from 1 to 8 PM.  For more information call Lake County Wine Studio at (707) 275-8030.
X-ALT-DESC;FMTTYPE=text/html:<p><font face="Arial" style="color: rgb(34\, 34\, 34)\; font-size: 12px\; line-height: 18px\;"><span style="font-size: 11pt\;">Artist Anna Sabalone and Lake County Wine Studio are presenting an ongoing series of art classes/parties. &nbsp\;The next class will be held on February 28\, 1:30 to 4:00 pm. &nbsp\;During the 2-1/2 hour class\, Sabalone will demonstrate with acrylic paints and participants will then paint a&nbsp\;</span><span style="font-size: 15px\;">scene of a sandpiper on a beach.</span><br /> <span style="font-size: 11pt\;">&nbsp\;</span><br /> <span style="font-size: 11pt\;">All supplies will be provided along with a glass of wine for sipping for $40 each class. &nbsp\;&nbsp\;Each class in future months will focus specifically on a different art medium.</span><br /> <br /> <span style="font-size: 11pt\;">Sabalone was born and raised in Lake County. &nbsp\;She has been involved in the Lake County Arts Council since her teen years. &nbsp\;She attended the University of California\, Santa Barbara and the University of Leeds\, England for her undergraduate degree in English\, History and Anthropology. &nbsp\;She earned her teaching credential and Masters of Education from UCSB and has been teaching Art\, English\, History and Academic Decathlon at Upper Lake High School since 2008. &nbsp\;</span><br /> <br /> <span style="font-size: 11pt\;">For class schedule\, reservations and additional information\, contact Susan at&nbsp\;<span class="ClickablePhoneNumber" phonenumber="(707) 293-8752">(707) 293-8752</span></span><br /> <span style="font-size: 11pt\;">&nbsp\;</span><br /> <span style="font-size: 11pt\;">Lake County Wine Studio is both a gallery for display of arts and a tasting room\, wine bar and retail shop for the fine wines of Lake County. &nbsp\;Artist&#39\;s shows are held on a monthly basis with art and wine receptions held the first Friday and subsequent Saturday of each month.</span><br /> <span style="font-size: 11pt\;">&nbsp\;</span><br /> <span style="font-size: 11pt\;">The gallery is located at 9505 Main Street in Upper Lake. &nbsp\;&nbsp\;Days and hours open are Monday 1:00-6:30 PM\; Thursday\, Saturday and Sunday from 1 to 7 PM and Friday from 1 to 8 PM. &nbsp\;For more information call Lake County Wine Studio at&nbsp\;<span class="ClickablePhoneNumber" phonenumber="(707) 275-8030">(707) 275-8030</span></span></font><span style="color: rgb(34\, 34\, 34)\; font-family: Arial\, Helvetica\, sans-serif\; font-size: 11pt\;"><font face="Calibri\, Verdana\, Helvetica\, Arial">.</font></span></p> 
LOCATION:Lake County Wine Studio\, Upper Lake
UID:e.1531.3207
SEQUENCE:3
DTSTAMP:20260421T085014Z
URL:https://members.psaeger.com/events/details/wine-art-class-acrylic-paints-02-28-2016-3207
END:VEVENT

END:VCALENDAR
