BEGIN:VCALENDAR
VERSION:2.0
PRODID:-//ChamberMaster//Event Calendar 2.0//EN
METHOD:PUBLISH
X-PUBLISHED-TTL:P3D
REFRESH-INTERVAL:P3D
CALSCALE:GREGORIAN
BEGIN:VEVENT
DTSTART:20160606T010000Z
DTEND:20160606T030000Z
X-MICROSOFT-CDO-ALLDAYEVENT:FALSE
SUMMARY:Wendy DeWitt at Blue Wing First Sunday Live
DESCRIPTION:Join "Majide\," the smooth combo of Paul Kemp on keys and Machiko Shimada on vocals\, for some pleasant  background music each Sunday evening.  On the first Sunday of the month they invite a special guest to jam with them and tonight's guest is the "Queen of Boogie Woogie" herself WENDY DEWITT together with percussionist KIRK HARWOOD..  An hour of this professionally produced program is broadcast on a delayed basis on the following Monday evening from 8:00 to 9:00 over the local station KNTI 99.5 FM and streams at www.KNTI.com.
X-ALT-DESC;FMTTYPE=text/html:<p>Join &quot\;Majide\,&quot\; the smooth combo of Paul Kemp on keys and Machiko Shimada on vocals\, for some pleasant&nbsp\; background music each Sunday evening.&nbsp\; On the first Sunday of the month they invite a special guest to jam with them and tonight&#39\;s guest is the &quot\;Queen of Boogie Woogie&quot\; herself WENDY DEWITT together with percussionist KIRK HARWOOD..&nbsp\; An hour of this professionally produced program is broadcast on a delayed basis on the following Monday evening from 8:00 to 9:00 over the local station KNTI 99.5 FM and streams at <a href="http://www.knti.com/">www.KNTI.com</a>.</p> 
LOCATION:Blue Wing Restaurant
UID:e.1531.3413
SEQUENCE:3
DTSTAMP:20260421T023352Z
URL:https://members.psaeger.com/events/details/wendy-dewitt-at-blue-wing-first-sunday-live-06-05-2016-3413
END:VEVENT

END:VCALENDAR
