BEGIN:VCALENDAR
VERSION:2.0
PRODID:-//ChamberMaster//Event Calendar 2.0//EN
METHOD:PUBLISH
X-PUBLISHED-TTL:P3D
REFRESH-INTERVAL:P3D
CALSCALE:GREGORIAN
BEGIN:VEVENT
DTSTART:20151109T120000Z
DTEND:20151109T170000Z
X-MICROSOFT-CDO-ALLDAYEVENT:FALSE
SUMMARY:Weekly Breakfast
DESCRIPTION:Start your week off with a fresh breakfast courtesy of the VFW. Socialize and network with your fellow chamber members.
X-ALT-DESC;FMTTYPE=text/html:Start your week off with a fresh breakfast courtesy of the VFW. Socialize and network with your fellow chamber members.
LOCATION:VFW
UID:e.1531.187
SEQUENCE:3
DTSTAMP:20260421T133719Z
URL:https://members.psaeger.com/events/details/weekly-breakfast-11-09-2015-187
END:VEVENT

END:VCALENDAR
