BEGIN:VCALENDAR
VERSION:2.0
PRODID:-//ChamberMaster//Event Calendar 2.0//EN
METHOD:PUBLISH
X-PUBLISHED-TTL:P3D
REFRESH-INTERVAL:P3D
CALSCALE:GREGORIAN
BEGIN:VEVENT
DTSTART:20160331T210000Z
DTEND:20160331T220000Z
X-MICROSOFT-CDO-ALLDAYEVENT:FALSE
SUMMARY:Webinar-Positioning for media
DESCRIPTION:March 31   Positioning for news coverage\, getting marketing assets in order and setting up your Online Newsroom  This webinar is about positioning you and your company to get coverage in the local media\, highlighted in your community to attract new customers using the celebrity edge of media promotions\, and a checklist of what you need to have prepared.  Learning to recognize all the opportunities to promote your business is a skill you can learn. It could be a Best of the Best Awards\, a nomination for a business award or having the right photo taken at the right time to submit to your Chamber of Commerce. Learn to leverage these kinds of opportunities by being prepared.   \n Participants will learn how to:    	Compile the elements of a professional ePress kit 	Determine "hooks" that work for getting attention 	Put the magic words into press release headlines or email subject lines that capture attention 	Recognize media opportunities in local papers\, Chamber of Commerce\, at events and others... 	Become a trusted source to local media   5-part Webinar Series   registration link for all 5 webinars: https://attendee.gotowebinar.com/register/1751213432905483524  Participants can view the webinar on any computer device\, wi-fi  needed\, and you can use your computer speakers or call in with the phone number and access code provided with your registration. There is no charge to attend each of these webinars\, however\, if you want to receive the recording and slide presentation\, you must attend the webinar at the scheduled time.\n Recordings will be sent to each participating attendee.
X-ALT-DESC;FMTTYPE=text/html:<p><strong>March 31 &ndash\; Positioning for news coverage\, getting marketing assets in order and setting up your Online Newsroom</strong></p>  <p><strong><em>This webinar is about positioning you and your company to get coverage in the local media\, highlighted in your community to attract new customers using the celebrity edge of media promotions\, and a checklist of what you need to have prepared.</em></strong></p>  <p>Learning to recognize all the opportunities to promote your business is a skill you can learn. It could be a Best of the Best Awards\, a nomination for a business award or having the right photo taken at the right time to submit to your Chamber of Commerce. Learn to leverage these kinds of opportunities by being prepared.&nbsp\;</p>  <p><br /> <strong>Participants will learn how to: </strong></p>  <ul> 	<li>Compile the elements of a professional ePress kit</li> 	<li>Determine &quot\;hooks&quot\; that work for getting attention</li> 	<li>Put the magic words into press release headlines or email subject lines that capture attention</li> 	<li>Recognize media opportunities in local papers\, Chamber of Commerce\, at events and others...</li> 	<li>Become a trusted source to local media</li> </ul>  <p>5-part Webinar Series &ndash\; <strong>registration link </strong>for all 5 webinars: <a href="https://attendee.gotowebinar.com/register/1751213432905483524">https://attendee.gotowebinar.com/register/1751213432905483524</a></p>  <p>Participants can view the webinar on any computer device\, wi-fi&nbsp\; needed\, and you can use your computer speakers or call in with the phone number and access code provided with your registration. There is no charge to attend each of these webinars\, however\, if you want to receive the recording and slide presentation\, you must attend the webinar at the scheduled time.<br /> Recordings will be sent to each participating attendee.</p>  <p>&nbsp\;</p> 
LOCATION:Webinar Based
UID:e.1531.3368
SEQUENCE:3
DTSTAMP:20260421T071643Z
URL:https://members.psaeger.com/events/details/webinar-positioning-for-media-03-31-2016-3368
END:VEVENT

END:VCALENDAR
