BEGIN:VCALENDAR
VERSION:2.0
PRODID:-//ChamberMaster//Event Calendar 2.0//EN
METHOD:PUBLISH
X-PUBLISHED-TTL:P3D
REFRESH-INTERVAL:P3D
CALSCALE:GREGORIAN
BEGIN:VEVENT
DTSTART:20160405T013000Z
DTEND:20160405T040000Z
X-MICROSOFT-CDO-ALLDAYEVENT:FALSE
SUMMARY:Vanessa Collier at Blue Wing Monday Blues
DESCRIPTION:Local\, Bay Area and touring blues bands perform at the Blue Wing at dinner time each Monday evening. It's great food in a lively and danceable atmosphere. There's no cover but reservations are suggested\, either inside or out on our heated veranda. Tonight we feature a band headed by Vanessa Collier - well-known nationally and now on a California tour.
X-ALT-DESC;FMTTYPE=text/html:<p>Local\, Bay Area and touring blues bands perform at the Blue Wing at dinner time each Monday evening. It&#39\;s great food in a lively and danceable atmosphere. There&#39\;s no cover but reservations are suggested\, either inside or out on our heated veranda. Tonight we feature a band headed by Vanessa Collier - well-known nationally and now on a California tour.</p> 
LOCATION:Blue Wing Restaurant
UID:e.1531.3378
SEQUENCE:3
DTSTAMP:20260421T054438Z
URL:https://members.psaeger.com/events/details/vanessa-collier-at-blue-wing-monday-blues-04-04-2016-3378
END:VEVENT

END:VCALENDAR
