BEGIN:VCALENDAR
VERSION:2.0
PRODID:-//ChamberMaster//Event Calendar 2.0//EN
METHOD:PUBLISH
X-PUBLISHED-TTL:P3D
REFRESH-INTERVAL:P3D
CALSCALE:GREGORIAN
BEGIN:VEVENT
DTSTART:20160220T190000Z
DTEND:20160221T010000Z
X-MICROSOFT-CDO-ALLDAYEVENT:FALSE
SUMMARY:Valley Fire RebuildEXPO
DESCRIPTION:The Valley Fire Rebuild Expo  is pulling together resources to inspire property owners to rebuild and reinvest in our communities.  \n Building a house can feel like an overwhelming task under normal circumstances\, add the stress of a major catastrophe\, and it is down-right daunting. We need our people to come back and rebuild for a resilient future.  Register: http://valleyfirerebuildexpo.com/property-owners/  This event is presented by the Cobb Resiliency Action Group ("CRAG") and the Friends of Cobb Mountain.
X-ALT-DESC;FMTTYPE=text/html:<div class="et_pb_text et_pb_module et_pb_bg_layout_light et_pb_text_align_left  et_pb_text_4"> <p style="text-align: center\;"><span style="font-size:20px\;"><em>The Valley Fire Rebuild Expo</em></span></p>  <p style="text-align: center\;"><span style="font-size:14px\;"><span style="font-size:12px\;">is pulling together resources to inspire property owners to rebuild and reinvest in our communities.</span></span></p>  <p><br /> <span style="font-size:14px\;">Building a house can feel like an overwhelming task under normal circumstances\, add the stress of a major catastrophe\, and it is down-right daunting. We need our people to come back and rebuild for a resilient future.</span></p>  <p><span style="font-size:14px\;">Register:<span style="font-size:16px\;"> </span></span><span style="font-size:16px\;"><a href="http://valleyfirerebuildexpo.com/property-owners/">http://valleyfirerebuildexpo.com/property-owners/</a></span></p>  <p><span style="font-size:14px\;">This event is presented by the&nbsp\;Cobb Resiliency Action Group (&ldquo\;CRAG&rdquo\;) and the <a href="http://friendsofcobbmt.org" target="_blank">Friends of Cobb Mountain</a>.</span></p> </div> 
LOCATION:Twin Pine Casino\, Middletown
UID:e.1531.3192
SEQUENCE:3
DTSTAMP:20260421T090443Z
URL:https://members.psaeger.com/events/details/valley-fire-rebuildexpo-02-20-2016-3192
END:VEVENT

END:VCALENDAR
