BEGIN:VCALENDAR
VERSION:2.0
PRODID:-//ChamberMaster//Event Calendar 2.0//EN
METHOD:PUBLISH
X-PUBLISHED-TTL:P3D
REFRESH-INTERVAL:P3D
CALSCALE:GREGORIAN
BEGIN:VEVENT
DTSTART:20160220T010000Z
DTEND:20160220T060000Z
X-MICROSOFT-CDO-ALLDAYEVENT:FALSE
SUMMARY:Twin Pine Winery of the Month
DESCRIPTION:TWIN PINE CASINO & HOTEL  WINERY OF THE MONTH  CACHE CREEK VINEYARDS  Friday\, February 19th  Wine Tasting  $2  5:00 PM - 7:00 PM  Wine Pairing Dinner  $65  5:00 PM - 10:00 PM  For full menu go to www.twinpine.com  RSVP at 707-987-1257
X-ALT-DESC;FMTTYPE=text/html:<h1 style="text-align: center\;"><span style="color:#800000\;">TWIN PINE CASINO &amp\; HOTEL</span></h1>  <h2 style="text-align: center\;">WINERY OF THE MONTH</h2>  <h2 style="text-align: center\;">CACHE CREEK VINEYARDS</h2>  <h3 style="text-align: center\;">Friday\, February 19th</h3>  <h3 style="text-align: center\;">Wine Tasting &nbsp\;$2 &nbsp\;5:00 PM - 7:00 PM</h3>  <h3 style="text-align: center\;">Wine Pairing Dinner &nbsp\;$65 &nbsp\;5:00 PM - 10:00 PM</h3>  <p style="text-align: center\;"><span style="color:#FF0000\;"><strong>For full menu go to www.twinpine.com</strong></span></p>  <h3 style="text-align: center\;">RSVP at 707-987-1257</h3>  <p>&nbsp\;</p>  <p>&nbsp\;</p> 
LOCATION:Twin Pine Casino & Hotel
UID:e.1531.3347
SEQUENCE:3
DTSTAMP:20260421T085236Z
URL:https://members.psaeger.com/events/details/twin-pine-winery-of-the-month-02-19-2016-3347
END:VEVENT

END:VCALENDAR
