BEGIN:VCALENDAR
VERSION:2.0
PRODID:-//ChamberMaster//Event Calendar 2.0//EN
METHOD:PUBLISH
X-PUBLISHED-TTL:P3D
REFRESH-INTERVAL:P3D
CALSCALE:GREGORIAN
BEGIN:VEVENT
DTSTART;VALUE=DATE:20170725
DTEND;VALUE=DATE:20170726
TRANSP:TRANSPARENT
X-MICROSOFT-CDO-ALLDAYEVENT:TRUE
SUMMARY:This event is internal but I'm going to first save it public
DESCRIPTION:
X-ALT-DESC;FMTTYPE=text/html:
LOCATION:
UID:e.1531.3793
SEQUENCE:3
DTSTAMP:20260420T050336Z
URL:https://members.psaeger.com/events/details/this-event-is-internal-but-i-m-going-to-first-save-it-public-3793
END:VEVENT

END:VCALENDAR
