BEGIN:VCALENDAR
VERSION:2.0
PRODID:-//ChamberMaster//Event Calendar 2.0//EN
METHOD:PUBLISH
X-PUBLISHED-TTL:P3D
REFRESH-INTERVAL:P3D
CALSCALE:GREGORIAN
BEGIN:VEVENT
DTSTART:20160424T210000Z
DTEND:20160425T010000Z
X-MICROSOFT-CDO-ALLDAYEVENT:FALSE
SUMMARY:THE ELECTRIC TOYS BAND
DESCRIPTION:DON'T MISS A SUNDAY AFTERNOON OVERLOOKING CLEARLAKE  & ENJOYING GREAT FOOD & DRINKS WHILE YOU GET YOUR GROOVE ON WITH THE HAPPENING DANCE BAND OF LAKE COUNTY. IGUARANTEE YOU WON'T BE ABLE TO SIT STILL SO BRING YOUR DANCING SHOE'S & YOUR FRIENDS TO SEE THIS DYNAMIC DUO
X-ALT-DESC;FMTTYPE=text/html:<p><b>DON&#39\;T MISS A SUNDAY AFTERNOON OVERLOOKING CLEARLAKE &nbsp\;&amp\; ENJOYING GREAT FOOD &amp\; DRINKS WHILE YOU GET YOUR GROOVE ON WITH THE HAPPENING DANCE BAND OF&nbsp\;LAKE COUNTY. IGUARANTEE YOU WON&#39\;T BE ABLE TO SIT STILL SO BRING YOUR DANCING SHOE&#39\;S &amp\; YOUR FRIENDS TO SEE THIS DYNAMIC DUO &#8252\;&#65039\;&#8252\;&#65039\;&#8252\;&#65039\;&nbsp\;</b></p> 
LOCATION:THE BOATHOUSE RESTAURANT & BAR\, 2685 LAKESHORE BLVD\, NICE\, CA.\,
UID:e.1531.3498
SEQUENCE:3
DTSTAMP:20260421T054520Z
URL:https://members.psaeger.com/events/details/the-electric-toys-band-04-24-2016-3498
END:VEVENT

END:VCALENDAR
