BEGIN:VCALENDAR
VERSION:2.0
PRODID:-//ChamberMaster//Event Calendar 2.0//EN
METHOD:PUBLISH
X-PUBLISHED-TTL:P3D
REFRESH-INTERVAL:P3D
CALSCALE:GREGORIAN
BEGIN:VEVENT
DTSTART:20160424T030000Z
DTEND:20160424T065900Z
X-MICROSOFT-CDO-ALLDAYEVENT:FALSE
SUMMARY:THE ELECTRIC TOYS BAND
DESCRIPTION:COME AND JOIN THE SOUNDS OF THE ELECTRIC TOYS BAND ... LAKE COUNTY'S HAPPENING BANDS.  COME EARLY HAVE A BITE TO EAT & COCKTAIL . BRING YOUR DANCING SHOE'S & GET YOUR GROOVE ON         YOU WILL LOVE THIS DYNAMIC DUO        Music begins at 8pm until Midnight!
X-ALT-DESC;FMTTYPE=text/html:<p><strong>COME AND JOIN THE SOUNDS OF THE ELECTRIC TOYS BAND ...&nbsp\;LAKE COUNTY&#39\;S HAPPENING BANDS. &nbsp\;COME EARLY HAVE A BITE TO EAT &amp\; COCKTAIL . BRING YOUR DANCING SHOE&#39\;S &amp\; GET YOUR GROOVE ON&#8252\;&#65039\;&#8252\;&#65039\;&#8252\;&#65039\;&#8252\;&#65039\; YOU WILL LOVE THIS DYNAMIC DUO&#8252\;&#65039\;&#8252\;&#65039\;&#8252\;&#65039\;</strong></p>  <p><strong>Music begins at 8pm until Midnight!</strong></p> 
LOCATION:THE RIVIERA HILLS COUNTRY CLUB\, 10200 FAIRWAY DR.\, KELSEYVILLE\, CA.
UID:e.1531.3488
SEQUENCE:3
DTSTAMP:20260421T054519Z
URL:https://members.psaeger.com/events/details/the-electric-toys-band-04-23-2016-3488
END:VEVENT

END:VCALENDAR
