BEGIN:VCALENDAR
VERSION:2.0
PRODID:-//ChamberMaster//Event Calendar 2.0//EN
METHOD:PUBLISH
X-PUBLISHED-TTL:P3D
REFRESH-INTERVAL:P3D
CALSCALE:GREGORIAN
BEGIN:VEVENT
DTSTART;VALUE=DATE:20171123
DTEND;VALUE=DATE:20171124
TRANSP:TRANSPARENT
X-MICROSOFT-CDO-ALLDAYEVENT:TRUE
SUMMARY:Thanksgiving
DESCRIPTION:My event description
X-ALT-DESC;FMTTYPE=text/html:My event description
LOCATION:Location Description
UID:e.1531.3809
SEQUENCE:3
DTSTAMP:20260419T222647Z
URL:https://members.psaeger.com/events/details/thanksgiving-3809
END:VEVENT

END:VCALENDAR
