BEGIN:VCALENDAR
VERSION:2.0
PRODID:-//ChamberMaster//Event Calendar 2.0//EN
METHOD:PUBLISH
X-PUBLISHED-TTL:P3D
REFRESH-INTERVAL:P3D
CALSCALE:GREGORIAN
BEGIN:VEVENT
DTSTART:20160529T173000Z
DTEND:20160529T220000Z
X-MICROSOFT-CDO-ALLDAYEVENT:FALSE
SUMMARY:Take 4 Jazz at Blue Wing Sunday Brunch
DESCRIPTION:Enjoy a great brunch from 10:30 to 3:00 with live music inside or out in the garden in good weather from 11:30 to 2:00. Music today is by the innovative combo "Take 4 Jazz" led by keyboard artist Tom Ganoung.
X-ALT-DESC;FMTTYPE=text/html:<p>Enjoy a great brunch from 10:30 to 3:00 with live music inside or out in the garden in good weather from 11:30 to 2:00. Music today is by the innovative combo &quot\;Take 4 Jazz&quot\; led by keyboard artist Tom Ganoung.</p> 
LOCATION:Blue Wing Restaurant
UID:e.1531.3409
SEQUENCE:3
DTSTAMP:20260421T042256Z
URL:https://members.psaeger.com/events/details/take-4-jazz-at-blue-wing-sunday-brunch-05-29-2016-3409
END:VEVENT

END:VCALENDAR
