BEGIN:VCALENDAR
VERSION:2.0
PRODID:-//ChamberMaster//Event Calendar 2.0//EN
METHOD:PUBLISH
X-PUBLISHED-TTL:P3D
REFRESH-INTERVAL:P3D
CALSCALE:GREGORIAN
BEGIN:VEVENT
DTSTART:20160324T210000Z
DTEND:20160324T220000Z
X-MICROSOFT-CDO-ALLDAYEVENT:FALSE
SUMMARY:Tactics for Mobil Email WEBINAR
DESCRIPTION:Harness the Power of Mobile - Tactics for Mobile Email\, Website and SEO strategies  -   Participants will learn how to use mobile technology to promote themselves and drive more business:  Mobile internet usage is growing fast   more people are starting to receive and read your email and social media messages with their smartphones. And more businesses are starting to use mobile to create marketing communications and make it easy for their customers to buy from them. Join us for this webinar to make mobile a part of your business.  Participants will learn:           Why mobile makes local listings more important than ever           How to drive action with mobile marketing           How to create content with and for mobile     5-part Webinar Series   registration link for all 5 webinars: https://attendee.gotowebinar.com/register/1751213432905483524  Participants can view the webinar on any computer device\, wi-fi  needed\, and you can use your computer speakers or call in with the phone number and access code provided with your registration. There is no charge to attend each of these webinars\, however\, if you want to receive the recording and slide presentation\, you must attend the webinar at the scheduled time.\n Recordings will be sent to each participating attendee.
X-ALT-DESC;FMTTYPE=text/html:<p><strong>Harness the Power of Mobile - Tactics for Mobile Email\, Website and SEO strategies&nbsp\; - </strong></p>  <p>Participants will learn how to use mobile technology to promote themselves and drive more business:</p>  <p>Mobile internet usage is growing fast &ndash\; more people are starting to receive and read your email and social media messages with their smartphones. And more businesses are starting to use mobile to create marketing communications and make it easy for their customers to buy from them. Join us for this webinar to make mobile a part of your business.</p>  <p><strong>Participants will learn:</strong></p>  <p>&bull\;&nbsp\;&nbsp\;&nbsp\;&nbsp\;&nbsp\;&nbsp\;&nbsp\; Why mobile makes local listings more important than ever</p>  <p>&bull\;&nbsp\;&nbsp\;&nbsp\;&nbsp\;&nbsp\;&nbsp\;&nbsp\; How to drive action with mobile marketing</p>  <p>&bull\;&nbsp\;&nbsp\;&nbsp\;&nbsp\;&nbsp\;&nbsp\;&nbsp\; How to create content with and for mobile</p>  <p>&nbsp\;</p>  <p>5-part Webinar Series &ndash\; <strong>registration link</strong> for all 5 webinars:<a href="https://attendee.gotowebinar.com/register/1751213432905483524"> https://attendee.gotowebinar.com/register/1751213432905483524</a></p>  <p>Participants can view the webinar on any computer device\, wi-fi&nbsp\; needed\, and you can use your computer speakers or call in with the phone number and access code provided with your registration. There is no charge to attend each of these webinars\, however\, if you want to receive the recording and slide presentation\, you must attend the webinar at the scheduled time.<br /> Recordings will be sent to each participating attendee.</p> 
LOCATION:Web based
UID:e.1531.3363
SEQUENCE:3
DTSTAMP:20260421T071759Z
URL:https://members.psaeger.com/events/details/tactics-for-mobil-email-webinar-03-24-2016-3363
END:VEVENT

END:VCALENDAR
