BEGIN:VCALENDAR
VERSION:2.0
PRODID:-//ChamberMaster//Event Calendar 2.0//EN
METHOD:PUBLISH
X-PUBLISHED-TTL:P3D
REFRESH-INTERVAL:P3D
CALSCALE:GREGORIAN
BEGIN:VEVENT
DTSTART:20160319T020000Z
DTEND:20160319T050000Z
X-MICROSOFT-CDO-ALLDAYEVENT:FALSE
SUMMARY:Steve Lucky & the Rhumba Bums concert
DESCRIPTION:On Friday\, March 18\, the Soper Reese Theatre Third Friday Live series features Steve Lucky and the Rhumba Bums\, with show starting at 7:00 pm.  Tickets are $15 for all seats.  This Bay Area group plays a sizzling mix of jump blues\, swing\, jazz and rare gems inspired by the '30s\, '40s and '50s.  Steve's soulful piano and Carmen Getit's Dinah Washington vocal style combine with saxophones\, drums and bass for a driving sound that brings an audience to its feet\, jumpin'\, jivin' and party stylin'.  Music critic\, Jim Moret of CNN Showbiz says this group is " at the forefront of the swing revival\," and Down Beat Magazine says\, "The Rhumba Bums abide by Cab Calloway's advice: 'Live what's in your soul and sing your friggin' heart out.'"  Sponsored by Strong Financial Network.  Dance floor will be open.  Tickets are available online at SoperReeseTheatre.com\; at the Theatre Box Office\, 275 S. Main St.\, Lakeport on Fridays 10:30 am to 5:30 pm\; or at The Travel Center\, 1265 S. Main\, Lakeport\, Monday-Friday 9:00 am to 5:00  pm.
X-ALT-DESC;FMTTYPE=text/html:<p>On Friday\, March 18\, the Soper Reese Theatre Third Friday Live series features Steve Lucky and the Rhumba Bums\, with show starting at 7:00 pm.&nbsp\; Tickets are $15 for all seats.</p>  <p>This Bay Area group plays a sizzling mix of jump blues\, swing\, jazz and rare gems inspired by the &#39\;30s\, &#39\;40s and &#39\;50s.&nbsp\; Steve&rsquo\;s soulful piano and Carmen Getit&rsquo\;s Dinah Washington vocal style combine with saxophones\, drums and bass for a driving sound that brings an audience to its feet\, jumpin&rsquo\;\, jivin&rsquo\;<a name="_GoBack"></a> and party stylin&rsquo\;. &nbsp\;Music critic\, Jim Moret of CNN Showbiz says this group is &quot\;&hellip\;at the forefront of the swing revival\,&quot\; and Down Beat Magazine says\, &ldquo\;The Rhumba Bums abide by Cab Calloway&#39\;s advice: &#39\;Live what&#39\;s in your soul and sing your friggin&#39\; heart out.&rsquo\;&quot\;</p>  <p>Sponsored by Strong Financial Network.&nbsp\; Dance floor will be open.&nbsp\; Tickets are available online at SoperReeseTheatre.com\; at the Theatre Box Office\, 275 S. Main St.\, Lakeport on Fridays 10:30 am to 5:30 pm\; or at The Travel Center\, 1265 S. Main\, Lakeport\, Monday-Friday 9:00 am to 5:00&nbsp\; pm.</p>  <p>&nbsp\;</p> 
LOCATION:Soper Reese Theatre\, 275 S. Main St.\, Lakeport
UID:e.1531.3351
SEQUENCE:3
DTSTAMP:20260421T072441Z
URL:https://members.psaeger.com/events/details/steve-lucky-the-rhumba-bums-concert-03-18-2016-3351
END:VEVENT

END:VCALENDAR
