BEGIN:VCALENDAR
VERSION:2.0
PRODID:-//ChamberMaster//Event Calendar 2.0//EN
METHOD:PUBLISH
X-PUBLISHED-TTL:P3D
REFRESH-INTERVAL:P3D
CALSCALE:GREGORIAN
BEGIN:VEVENT
DTSTART:20161008T170000Z
DTEND:20161009T000000Z
X-MICROSOFT-CDO-ALLDAYEVENT:FALSE
SUMMARY:Steele Wines Harvest Festival
DESCRIPTION:SAVE THE DATE.
X-ALT-DESC;FMTTYPE=text/html:<p>SAVE THE DATE.</p> 
LOCATION:Steele Wines
UID:e.1531.3335
SEQUENCE:3
DTSTAMP:20260420T195525Z
URL:https://members.psaeger.com/events/details/steele-wines-harvest-festival-10-08-2016-3335
END:VEVENT

END:VCALENDAR
