BEGIN:VCALENDAR
VERSION:2.0
PRODID:-//ChamberMaster//Event Calendar 2.0//EN
METHOD:PUBLISH
X-PUBLISHED-TTL:P3D
REFRESH-INTERVAL:P3D
CALSCALE:GREGORIAN
BEGIN:VEVENT
DTSTART:20160423T170000Z
DTEND:20160423T230000Z
X-MICROSOFT-CDO-ALLDAYEVENT:FALSE
SUMMARY:Spring Fling Garden Party
DESCRIPTION:Harbor Village Artist Complex & Lakeside Art & Gifts is hosting the 3rd Annual Garden Party.  Garden related items by local artists & crafters. Plant Sale. Garden questions answered.  .
X-ALT-DESC;FMTTYPE=text/html:<p>Harbor Village Artist Complex &amp\; Lakeside Art &amp\; Gifts is hosting the 3rd Annual Garden Party.&nbsp\; Garden related items by local artists &amp\; crafters. Plant Sale. Garden questions answered.&nbsp\; .</p> 
LOCATION:6197 E. Hwy 20 Lucerne
UID:e.1531.3474
SEQUENCE:3
DTSTAMP:20260421T054447Z
URL:https://members.psaeger.com/events/details/spring-fling-garden-party-04-23-2016-3474
END:VEVENT

END:VCALENDAR
