BEGIN:VCALENDAR
VERSION:2.0
PRODID:-//ChamberMaster//Event Calendar 2.0//EN
METHOD:PUBLISH
X-PUBLISHED-TTL:P3D
REFRESH-INTERVAL:P3D
CALSCALE:GREGORIAN
BEGIN:VEVENT
DTSTART:20160611T160000Z
DTEND:20160612T000000Z
X-MICROSOFT-CDO-ALLDAYEVENT:FALSE
SUMMARY:Spring Bazaar
DESCRIPTION:Don't miss this open air market on the lake\, brought to you by the Main Street Gallery  Great selection of fine art\, crafts\, treasures\, collectibles and homemade goodies from a variety of local vendors.   Live music.  Vendor tables available $25\, contact Toni Hyden 263-4226 or email toni.mainstgallery@gmail.com
X-ALT-DESC;FMTTYPE=text/html:<h3><strong>Don&#39\;t miss this open air market on the lake\, brought to you by the Main Street Gallery</strong></h3>  <p>Great selection of fine art\, crafts\, treasures\, collectibles and homemade goodies from a variety of local vendors.&nbsp\;</p>  <p>Live music.</p>  <p><strong>Vendor tables available $25</strong>\, contact Toni Hyden 263-4226 or email toni.mainstgallery@gmail.com</p> 
LOCATION:Lakeport Yacht Club
UID:e.1531.3293
SEQUENCE:3
DTSTAMP:20260421T022321Z
URL:https://members.psaeger.com/events/details/spring-bazaar-06-11-2016-3293
END:VEVENT

END:VCALENDAR
