BEGIN:VCALENDAR
VERSION:2.0
PRODID:-//ChamberMaster//Event Calendar 2.0//EN
METHOD:PUBLISH
X-PUBLISHED-TTL:P3D
REFRESH-INTERVAL:P3D
CALSCALE:GREGORIAN
BEGIN:VEVENT
DTSTART:20160427T010000Z
DTEND:20160427T030000Z
X-MICROSOFT-CDO-ALLDAYEVENT:FALSE
SUMMARY:Soylent Green Classic Film
DESCRIPTION:The 1973 sci-fi thriller "Soylent Green\," starring Charlton Heston\, screens at the Soper Reese Theatre in Lakeport on Tuesday\, April 26\, at 1:00 and 6:00 pm.     Based on the novel by Harry Harrison\, the film won a Nebula Award for "Best Science Fiction Film" and marks the final screen appearance of Edward G. Robinson.  It predicts a chilling future for the human race where over-population has pushed the limits of food production capacity resulting in desperation at all levels.     The movie is sponsored by Stu\, host of "Surface Noise\," KPFZ Community Public Radio 88.1 FM\, and is rated PG\, with run time of 1 hour 37 minutes.  Entry to the film is by donation.  The Soper Reese Theatre is located at 275 S. Main St.\, Lakeport\, 707-263-0577\, soperreesetheatre.com.
X-ALT-DESC;FMTTYPE=text/html:<p>The 1973 sci-fi thriller &ldquo\;Soylent Green\,&rdquo\; starring Charlton Heston\, screens at the Soper Reese Theatre in Lakeport on Tuesday\, April 26\, at 1:00 and 6:00 pm.</p>  <p>&nbsp\;</p>  <p>Based on the novel by Harry Harrison\, the film won a Nebula Award for &ldquo\;Best Science Fiction Film&rdquo\; and marks the final screen appearance of Edward G. Robinson.&nbsp\; It predicts a chilling future for the human race where over-population has pushed the limits of food production capacity resulting in desperation at all levels.</p>  <p>&nbsp\;</p>  <p>The movie is sponsored by Stu\, host of &ldquo\;Surface Noise\,&rdquo\; KPFZ Community Public Radio 88.1 FM\, and is rated PG\, with run time of 1 hour 37 minutes.&nbsp\; Entry to the film is by donation.&nbsp\; The Soper Reese Theatre is located at 275 S. Main St.\, Lakeport\, 707-263-0577\, soperreesetheatre.com.&nbsp\;&nbsp\;</p> 
LOCATION:Soper Reese Theatre\, 275 S. Main St.\, Lakeport
UID:e.1531.3463
SEQUENCE:3
DTSTAMP:20260421T054506Z
URL:https://members.psaeger.com/events/details/soylent-green-classic-film-04-26-2016-3463
END:VEVENT

END:VCALENDAR
