BEGIN:VCALENDAR
VERSION:2.0
PRODID:-//ChamberMaster//Event Calendar 2.0//EN
METHOD:PUBLISH
X-PUBLISHED-TTL:P3D
REFRESH-INTERVAL:P3D
CALSCALE:GREGORIAN
BEGIN:VEVENT
DTSTART:20160312T200000Z
DTEND:20160312T230000Z
X-MICROSOFT-CDO-ALLDAYEVENT:FALSE
SUMMARY:Soroptimist Spring Fling Luncheon
DESCRIPTION:On Saturday\, March 12\, 2016\, Soroptimist International of Clear Lake will hold its annual Spring Fling Fundraiser.  Each year\, we host a luncheon\, which includes a speaker\, live music\, silent & live auctions as well as a raffle.     Our guest speaker this year will be\, Sandra Millers Younger.  Sandra Millers Younger grew up in the South where people still swap stories over fried chicken\, apple pie and sweet tea. At the University of North Carolina\, Chapel Hill and Syracuse University\, where she earned degrees in English and journalism\, Sandra studied stories what makes the great ones great\, how to find them\, and how to share them in powerful ways that make a difference in the world. She's since told thousands of stories as a journalist\, culminating in her 2013 book\, The Fire Outside My Window: A Survivor Tells the True Story of California's Epic Ce dar Fire\, featured in the March 2015 NBC Dateline special\, "Escape: The Great California Fire."
X-ALT-DESC;FMTTYPE=text/html:<p>On Saturday\, March 12\, 2016\, Soroptimist International of Clear Lake will hold its annual Spring Fling Fundraiser.&nbsp\; Each year\, we host a luncheon\, which includes a speaker\, live music\, silent &amp\; live auctions as well as a raffle.&nbsp\;&nbsp\;&nbsp\;</p>  <p>Our guest speaker this year will be\, Sandra Millers Younger.&nbsp\; Sandra Millers Younger grew up in the South where people still swap stories over fried chicken\, apple pie and sweet tea. At the University of North Carolina\, Chapel Hill and Syracuse University\, where she earned degrees in English and journalism\, Sandra studied stories&mdash\;what makes the great ones great\, how to find them\, and how to share them in powerful ways that make a difference in the world. She&rsquo\;s since told thousands of stories as a journalist\, culminating in her 2013 book\, <strong><em>The Fire Outside My Window: A Survivor Tells the True Story of California&#39\;s Epic Ce</em></strong>&#65279\;<strong><em>dar Fire\,</em></strong>&nbsp\;featured in the March 2015 NBC Dateline special\, &quot\;Escape: The Great California Fire.&quot\;&nbsp\;</p> 
LOCATION:Twin Pine Casino Event Center
UID:e.1531.3222
SEQUENCE:3
DTSTAMP:20260421T071853Z
URL:https://members.psaeger.com/events/details/soroptimist-spring-fling-luncheon-03-12-2016-3222
END:VEVENT

END:VCALENDAR
