BEGIN:VCALENDAR
VERSION:2.0
PRODID:-//ChamberMaster//Event Calendar 2.0//EN
METHOD:PUBLISH
X-PUBLISHED-TTL:P3D
REFRESH-INTERVAL:P3D
CALSCALE:GREGORIAN
BEGIN:VEVENT
DTSTART:20160303T220000Z
DTEND:20160304T010000Z
X-MICROSOFT-CDO-ALLDAYEVENT:FALSE
SUMMARY:Small Business Economic Injury workshop
DESCRIPTION:Attention All Lake County Small Business Owners  WorkforceLake invites you to attend an important meeting with representatives from the U.S. Small Business Administration to learn more about how to obtain a low-interest SBA Economic Injury Disaster Loan (EIDL)  Andy Nester\, consultant for the Lake County Small Business Development Center\, will also be here to provide information on the services accessible to local businesses through the LC SBDC Hub.\n As a result of the 2015 Jerusalem\, Rocky and Valley Fires Lake County was declared a federal disaster area.  \n If you have suffered substantial economic injury* and are one of the following types of businesses located in a declared disaster area\, you may be eligible for an SBA Economic Injury Disaster Loan (EIDL):   	Small business 	Small agricultural cooperative 	Most private nonprofit organizations   *Substantial economic injury means the business is unable to meet its obligations and to pay its ordinary\n necessary operating expenses. EIDLs provide the necessary working capital to help small businesses survive until normal operations resume after a disaster.
X-ALT-DESC;FMTTYPE=text/html:<p><strong><span style="font-size:14px\;">Attention All Lake County Small Business Owners</span></strong></p>  <p>WorkforceLake invites you to attend an important meeting with representatives from the U.S. Small Business Administration to learn more about how to obtain a low-interest SBA Economic Injury Disaster Loan (EIDL)</p>  <p>Andy Nester\, consultant for the Lake County Small Business Development Center\, will also be here to provide information on the services accessible to local businesses through the LC SBDC Hub.<br /> As a result of the 2015 Jerusalem\, Rocky and Valley Fires Lake County was declared a federal disaster area.</p>  <p><br /> <strong><span style="font-size:14px\;">If you have suffered substantial economic injury</span></strong>* and are one of the following types of businesses located in a declared disaster area\, you may be eligible for an SBA Economic Injury Disaster Loan (EIDL):</p>  <ul> 	<li>Small business</li> 	<li>Small agricultural cooperative</li> 	<li>Most private nonprofit organizations</li> </ul>  <p>*Substantial economic injury means the business is unable to meet its obligations and to pay its ordinary<br /> necessary operating expenses. EIDLs provide the necessary working capital to help small businesses survive until normal operations resume after a disaster.</p> 
LOCATION:Lakeport City Hall - 225 Park St
UID:e.1531.3349
SEQUENCE:3
DTSTAMP:20260421T071940Z
URL:https://members.psaeger.com/events/details/small-business-economic-injury-workshop-03-03-2016-3349
END:VEVENT

END:VCALENDAR
