BEGIN:VCALENDAR
VERSION:2.0
PRODID:-//ChamberMaster//Event Calendar 2.0//EN
METHOD:PUBLISH
X-PUBLISHED-TTL:P3D
REFRESH-INTERVAL:P3D
CALSCALE:GREGORIAN
BEGIN:VEVENT
DTSTART:20160418T220000Z
DTEND:20160419T010000Z
X-MICROSOFT-CDO-ALLDAYEVENT:FALSE
SUMMARY:Shred Fest 2016
DESCRIPTION:You are welcome to invite your friends and family members to take advantage of this FREE service. Simply bring up to three (3) boxes of old documents that you would like to have shredded to the parking lot of Umpqua Bank in Lakeport. The FREE shredding service begin at 3:00 pm and continue until 6:00 pm.
X-ALT-DESC;FMTTYPE=text/html:<p>You are welcome to invite your friends and family members to take advantage of this FREE service. Simply bring up to three (3) boxes of old&nbsp\;documents that you would like to have shredded&nbsp\;to the parking lot of Umpqua Bank in Lakeport. The FREE shredding service begin at 3:00 pm and continue until 6:00 pm.</p> 
LOCATION:Umpqua Bank Parking Lot - Lakeport
UID:e.1531.3472
SEQUENCE:3
DTSTAMP:20260421T054209Z
URL:https://members.psaeger.com/events/details/shred-fest-2016-04-18-2016-3472
END:VEVENT

END:VCALENDAR
