BEGIN:VCALENDAR
VERSION:2.0
PRODID:-//ChamberMaster//Event Calendar 2.0//EN
METHOD:PUBLISH
X-PUBLISHED-TTL:P3D
REFRESH-INTERVAL:P3D
CALSCALE:GREGORIAN
BEGIN:VEVENT
DTSTART:20160615T200000Z
DTEND:20160615T230000Z
X-MICROSOFT-CDO-ALLDAYEVENT:FALSE
SUMMARY:SCORE Presents Free Social Media Marketing Class
DESCRIPTION:SCORE Presents Free Business Education Classes  Social Media Marketing  Presented By: Jeffery Schmidt and Diana Concoff Morgan     At Score we understand your desire to have Social Media promote your business and can show you the most efficient ways to do so.  Secrets of Social Media is a great workshop to learn or excel in online marketing\, for those who are looking to accomplish more in less time.    By attending our workshop you will be able to:   	Create a Social Strategy 	Start a Lead Generation Program 	Work the Various Levels of Customer Interest - hot topics\, keywords\, seasonal events and more 	Learn How to Write a Winning Subject Line 	Pick Content and Offers Customers Will Like 	Learn Which Social Media Networks Will Benefit Your Business   Register here or contact the Chamber of Commerce at 707-263-5092  Next class in this series: July 20\, 2016 - Financial Statements - Phil Husby
X-ALT-DESC;FMTTYPE=text/html:<hr /> <p style="text-align: center\;"><span style="font-size:14px\;"><strong>SCORE Presents Free Business Education Classes</strong></span></p>  <p style="text-align: center\;"><span style="color:#339900\;"><span style="font-size: 18px\;"><strong>Social Media Marketing</strong></span></span></p>  <p style="text-align: center\;"><strong>Presented By: Jeffery Schmidt and Diana Concoff Morgan</strong></p>  <p>&nbsp\;</p>  <p>At Score we understand your desire to <strong>have Social Media promote your business</strong> and can show you the most efficient ways to do so.<span style="font-size:12px\;">&nbsp\; Secrets of Social Media is a great workshop to learn or excel in online marketing\, for those who are looking to accomplish more in less time.</span>&nbsp\;<span style="font-size:12px\;"> </span></p>  <p><span style="font-size:12px\;">By attending our workshop you will be able to:</span></p>  <ul> 	<li>Create a Social Strategy</li> 	<li>Start a Lead Generation Program</li> 	<li>Work the Various Levels of Customer Interest - hot topics\, keywords\, seasonal events and more</li> 	<li>Learn How to Write a Winning Subject Line</li> 	<li>Pick Content and Offers Customers Will Like</li> 	<li>Learn Which Social Media Networks Will Benefit Your Business</li> </ul>  <p><span style="font-size:20px\;"><a href="http://events.r20.constantcontact.com/register/event?llr=srqw8yjab&amp\;oeidk=a07eca5u7efc5ac5ffd&amp\;condition=SO_OVERRIDE"><span style="color:#0099ff\;">Register here</span></a></span> or contact the Chamber of Commerce at 707-263-5092</p>  <p>Next class in this series: <a href="http://www2.lakecochamber.com/calendar/w/id/19743/event-details.asp"><strong>July 20\, 2016 - Financial Statements - Phil Husby</strong></a></p> 
LOCATION:Lakeport City Hall
UID:e.1531.3297
SEQUENCE:3
DTSTAMP:20260421T023616Z
URL:https://members.psaeger.com/events/details/score-presents-free-social-media-marketing-class-06-15-2016-3297
END:VEVENT

END:VCALENDAR
