BEGIN:VCALENDAR
VERSION:2.0
PRODID:-//ChamberMaster//Event Calendar 2.0//EN
METHOD:PUBLISH
X-PUBLISHED-TTL:P3D
REFRESH-INTERVAL:P3D
CALSCALE:GREGORIAN
BEGIN:VEVENT
DTSTART:20160518T200000Z
DTEND:20160518T230000Z
X-MICROSOFT-CDO-ALLDAYEVENT:FALSE
SUMMARY:SCORE Presents Free Marketing Workshop
DESCRIPTION:SCORE Presents Free Business Education Classes  Marketing Workshop  Presented By: Tom Tjerandsen     Most people starting a business feel intimidated by marketing and sales and nevertheless recognize the importance of finding and keeping customers.  This workshop aims to demystify the subject and provide a practical introduction to all the techniques available.     Register here or contact the Chamber of Commerce at 707-263-5092  Next class in this series: June 15\, 2016 - Social Media Marketing - Jeffery Schmidt and Diana Concoff Morgan
X-ALT-DESC;FMTTYPE=text/html:<p style="text-align: center\;"><span style="font-size:14px\;"><strong>SCORE Presents Free Business Education Classes</strong></span></p>  <p style="text-align: center\;"><span style="color:#339900\;"><span style="font-size: 18px\;"><strong>Marketing Workshop</strong></span></span></p>  <p style="text-align: center\;"><strong>Presented By: Tom Tjerandsen</strong></p>  <p>&nbsp\;</p>  <p>Most people starting a business feel intimidated by marketing and sales and nevertheless recognize the importance of finding and keeping customers. &nbsp\;This workshop aims to demystify the subject and provide a practical introduction to all the techniques available.</p>  <p>&nbsp\;</p>  <p><span style="font-size:20px\;"><a href="http://events.r20.constantcontact.com/register/event?llr=srqw8yjab&amp\;oeidk=a07eca5sqbe335c93f7&amp\;condition=SO_OVERRIDE"><span style="color:#0099ff\;">Register here</span></a></span> or contact the Chamber of Commerce at 707-263-5092</p>  <p>Next class in this series: <a href="http://www2.lakecochamber.com/calendar/w/id/19742/event-details.asp"><strong>June 15\, 2016 - Social Media Marketing - Jeffery Schmidt and Diana Concoff Morgan</strong></a></p> 
LOCATION:Lakeport City Hall
UID:e.1531.3273
SEQUENCE:3
DTSTAMP:20260421T054446Z
URL:https://members.psaeger.com/events/details/score-presents-free-marketing-workshop-05-18-2016-3273
END:VEVENT

END:VCALENDAR
