BEGIN:VCALENDAR
VERSION:2.0
PRODID:-//ChamberMaster//Event Calendar 2.0//EN
METHOD:PUBLISH
X-PUBLISHED-TTL:P3D
REFRESH-INTERVAL:P3D
CALSCALE:GREGORIAN
BEGIN:VEVENT
DTSTART:20160420T200000Z
DTEND:20160420T230000Z
X-MICROSOFT-CDO-ALLDAYEVENT:FALSE
SUMMARY:SCORE Presents Free Business Plan Workshop
DESCRIPTION:SCORE Presents Free Business Education Classes  Business Plan  Presented By: Roy Johnston  Learn the benefits of writing your plan:   	Learn how to write and use your business plan 	Dos and don'ts for writing an effective plan 	Plan structure and layout   Instructor mini-bio:  Roy Johnston is an attorney specializing in business law\, real estate law\, and estate planning.  Currently in his 18th year of practice\, he brings to the practice of law his background as a successful businessman with strong managerial and marketing education and experience.  Roy is a workshop speaker for SCORE and the Small Business Development Center (SBDC)\, and is active in the Business Law Sections of the Sonoma County Bar Association and the California Bar Association.  Register here or contact the Chamber of Commerce at 707-263-5092  Next class in this series: Wednesday May 18\, 2016   Marketing   Tom Tjerandsen
X-ALT-DESC;FMTTYPE=text/html:<p style="text-align: center\;"><span style="font-size:14px\;"><strong>SCORE Presents Free Business Education Classes</strong></span></p>  <p style="text-align: center\;"><span style="color:#339900\;"><span style="font-size: 18px\;"><strong>Business Plan</strong></span></span></p>  <p style="text-align: center\;"><strong>Presented By: Roy Johnston</strong></p>  <p>Learn the benefits of writing your plan:</p>  <ul> 	<li>Learn how to write and use your business plan</li> 	<li>Dos and don&#39\;ts for writing an effective plan</li> 	<li>Plan structure and layout</li> </ul>  <p><strong><span style="text-decoration: underline\;" title="">Instructor mini-bio</span></strong>:</p>  <p style="margin-left: 40px\;"><strong>Roy Johnston</strong> is an attorney specializing in business law\, real estate law\, and estate planning.&nbsp\; Currently in his 18th year of practice\, he brings to the practice of law his background as a successful businessman with strong managerial and marketing education and experience.&nbsp\; Roy is a workshop speaker for SCORE and the Small Business Development Center (SBDC)\, and is active in the Business Law Sections of the Sonoma County Bar Association and the California Bar Association.</p>  <p><strong><span style="font-size:20px\;"><a href="http://events.r20.constantcontact.com/register/event?llr=srqw8yjab&amp\;oeidk=a07eca5pyiw422c5899&amp\;condition=SO_OVERRIDE"><span style="color:#00ccff\;">Register here</span></a></span></strong> or contact the Chamber of Commerce at 707-263-5092</p>  <p>Next class in this series: <a href="http://www2.lakecochamber.com/calendar/w/id/19741/event-details.asp"><strong>Wednesday May 18\, 2016 &ndash\; Marketing &ndash\; Tom Tjerandsen</strong></a></p> 
LOCATION:Lakeport City Hall
UID:e.1531.3253
SEQUENCE:3
DTSTAMP:20260421T054410Z
URL:https://members.psaeger.com/events/details/score-presents-free-business-plan-workshop-04-20-2016-3253
END:VEVENT

END:VCALENDAR
