BEGIN:VCALENDAR
VERSION:2.0
PRODID:-//ChamberMaster//Event Calendar 2.0//EN
METHOD:PUBLISH
X-PUBLISHED-TTL:P3D
REFRESH-INTERVAL:P3D
CALSCALE:GREGORIAN
BEGIN:VEVENT
DTSTART:20160501T173000Z
DTEND:20160501T220000Z
X-MICROSOFT-CDO-ALLDAYEVENT:FALSE
SUMMARY:Sarah Tichava at Blue Wing Sunday Brunch
DESCRIPTION:Enjoy a great brunch from 10:30 to 3:00 with live music inside or out in the garden in good weather from 11:30 to 2:00. Music today is by the wonderful guitarist and vocalist Sarah Tichava backed by Hans Brede on bass.
X-ALT-DESC;FMTTYPE=text/html:<p>Enjoy a great brunch from 10:30 to 3:00 with live music inside or out in the garden in good weather from 11:30 to 2:00. Music today is by the wonderful guitarist and vocalist Sarah Tichava backed by Hans Brede on bass.</p> 
LOCATION:Blue Wing Restaurant
UID:e.1531.3393
SEQUENCE:3
DTSTAMP:20260421T042347Z
URL:https://members.psaeger.com/events/details/sarah-tichava-at-blue-wing-sunday-brunch-05-01-2016-3393
END:VEVENT

END:VCALENDAR
