BEGIN:VCALENDAR
VERSION:2.0
PRODID:-//ChamberMaster//Event Calendar 2.0//EN
METHOD:PUBLISH
X-PUBLISHED-TTL:P3D
REFRESH-INTERVAL:P3D
CALSCALE:GREGORIAN
BEGIN:VEVENT
DTSTART:20160228T013000Z
DTEND:20160228T040000Z
X-MICROSOFT-CDO-ALLDAYEVENT:FALSE
SUMMARY:Rotary Club of Clear Lake's Seafood Boil & Auction
DESCRIPTION:Rotary Club of Clear Lake's 13th Annual Seafood Boil is scheduled for 5:30 pm on Saturday\, February 27th at the Highlands Senior Center.     This event has become a must-attend for many. The meal starts with a tri-tip appetizer\, salad & bread followed by "the Boil"\, which includes crab\, shimp\, clam\, mussels\, crawfish\, and sausage follower by dessert.  Wine tasting this year will be provided by Guenoc & Langtry Vineyards.  A No-host bar is available.   There is both a live and silent auction.       Tickets are available at $75 each\, or\, if you prefer\, you can sponsor a reserved table for $700.  Contact Andy Peterson @ andypeterson@mchsi.com or contact any Clear Lake Rotarian for tickets. If you'd like to contribute an auction item\, call Roz Griffin at 707-272-2217.       We are proud of our contributions to our community and beyond\, but it could not be done without your help and support.  For more about our club\, visit our website:  clearlakerotary.org or our Facebook page Rotary Club of Clear Lake.
X-ALT-DESC;FMTTYPE=text/html:<div class="yiv3974440145" id="yiv3974440145yui_3_16_0_1_1452482027910_2432" style="font-family: HelveticaNeue\, 'Helvetica Neue'\, Helvetica\, Arial\, 'Lucida Grande'\, sans-serif\; font-size: 16px\;">Rotary Club of Clear Lake&rsquo\;s 13<sup class="yiv3974440145" id="yiv3974440145yui_3_16_0_1_1452482027910_2434">th</sup>&nbsp\;Annual Seafood Boil is scheduled for 5:30 pm on&nbsp\;Saturday\, February 27<sup class="yiv3974440145" id="yiv3974440145yui_3_16_0_1_1452482027910_2436">th</sup>&nbsp\;at the Highlands Senior Center.</div>  <div class="yiv3974440145" style="font-family: HelveticaNeue\, 'Helvetica Neue'\, Helvetica\, Arial\, 'Lucida Grande'\, sans-serif\; font-size: 16px\;">&nbsp\;</div>  <div class="yiv3974440145" style="font-family: HelveticaNeue\, 'Helvetica Neue'\, Helvetica\, Arial\, 'Lucida Grande'\, sans-serif\; font-size: 16px\;">This event has become a must-attend for many. The meal starts with a tri-tip appetizer\, salad &amp\; bread followed by &ldquo\;<strong>the Boil</strong>&rdquo\;\, which includes crab\, shimp\, clam\, mussels\, crawfish\, and&nbsp\;sausage follower by&nbsp\;dessert.&nbsp\; Wine tasting this year will be provided by Guenoc &amp\; Langtry&nbsp\;Vineyards.&nbsp\; A No-host bar is available. &nbsp\;&nbsp\;There is both a live and silent auction. &nbsp\;</div>  <div class="yiv3974440145" style="font-family: HelveticaNeue\, 'Helvetica Neue'\, Helvetica\, Arial\, 'Lucida Grande'\, sans-serif\; font-size: 16px\;">&nbsp\;</div>  <div class="yiv3974440145" style="font-family: HelveticaNeue\, 'Helvetica Neue'\, Helvetica\, Arial\, 'Lucida Grande'\, sans-serif\; font-size: 16px\;">Tickets are available at $75 each\, or\, if you prefer\, you can sponsor a reserved table for $700.&nbsp\; Contact Andy Peterson @&nbsp\;<a class="yiv3974440145" href="mailto:andypeterson@mchsi.com" id="yiv3974440145yui_3_16_0_1_1452482027910_2454" rel="nofollow" style="color: rgb(25\, 106\, 212)\; margin: 0px\; padding: 0px\; outline: none\; background-image: initial\; background-attachment: initial\; background-size: initial\; background-origin: initial\; background-clip: initial\; background-position: initial\; background-repeat: initial\;" target="_blank" ymailto="mailto:andypeterson@mchsi.com">andypeterson@mchsi.com</a>&nbsp\;or contact any Clear Lake Rotarian for tickets. If you&rsquo\;d like to contribute an auction item\, call Roz Griffin at 707-272-2217.&nbsp\;&nbsp\;</div>  <div class="yiv3974440145" style="font-family: HelveticaNeue\, 'Helvetica Neue'\, Helvetica\, Arial\, 'Lucida Grande'\, sans-serif\; font-size: 16px\;">&nbsp\;</div>  <div class="yiv3974440145" id="yiv3974440145yui_3_16_0_1_1452482027910_2440" style="font-family: HelveticaNeue\, 'Helvetica Neue'\, Helvetica\, Arial\, 'Lucida Grande'\, sans-serif\; font-size: 16px\;">We are proud of our contributions to our community and beyond\, but it could not be done without your help and support. &nbsp\;For more about our club\, visit our website:&nbsp\; clearlakerotary.org or our Facebook page&mdash\;Rotary Club of Clear Lake.&nbsp\;</div>  <div class="yiv3974440145" id="yiv3974440145yui_3_16_0_1_1452482027910_2425" style="font-family: HelveticaNeue\, 'Helvetica Neue'\, Helvetica\, Arial\, 'Lucida Grande'\, sans-serif\; font-size: 16px\;">&nbsp\;</div> 
LOCATION:Highlands Senior Community Center 3245 Bowers Ave\, Clearlake
UID:e.1531.3204
SEQUENCE:3
DTSTAMP:20260421T085316Z
URL:https://members.psaeger.com/events/details/rotary-club-of-clear-lake-s-seafood-boil-auction-02-27-2016-3204
END:VEVENT

END:VCALENDAR
