BEGIN:VCALENDAR
VERSION:2.0
PRODID:-//ChamberMaster//Event Calendar 2.0//EN
METHOD:PUBLISH
X-PUBLISHED-TTL:P3D
REFRESH-INTERVAL:P3D
CALSCALE:GREGORIAN
BEGIN:VEVENT
DTSTART;VALUE=DATE:20150731
DTEND;VALUE=DATE:20150801
TRANSP:TRANSPARENT
X-MICROSOFT-CDO-ALLDAYEVENT:TRUE
SUMMARY:Recurring Event VIA MIC
DESCRIPTION:It's Friday!
X-ALT-DESC;FMTTYPE=text/html:It&#39\;s Friday!
LOCATION:
UID:e.1531.2542
SEQUENCE:3
DTSTAMP:20260421T200624Z
URL:https://members.psaeger.com/events/details/recurring-event-via-mic-07-31-2015-2542
END:VEVENT

END:VCALENDAR
