BEGIN:VCALENDAR
VERSION:2.0
PRODID:-//ChamberMaster//Event Calendar 2.0//EN
METHOD:PUBLISH
X-PUBLISHED-TTL:P3D
REFRESH-INTERVAL:P3D
CALSCALE:GREGORIAN
BEGIN:VEVENT
DTSTART:20160303T220000Z
DTEND:20160303T230000Z
X-MICROSOFT-CDO-ALLDAYEVENT:FALSE
SUMMARY:Professional Email Marketing WEBINAR
DESCRIPTION:March 3 Professional Email Marketing   Look Great in the Inbox  First impressions matter   how are YOU doing with your emails? This seminar will help you avoid common mistakes and maximize your emails for powerful impact! Participants will learn:   	Branding beyond the logo   how placement\, pictures\, even colors can re-inforce recognition & engagement 	Readability   including fonts\, white space and single-column design 	Images   including sizing\, placement\, links and more 	Sharability   are you going social with your email? Easy tips to encourage more cross-platform engagement   Join us for this fast\, info-packed seminar packed with tips\, techniques and tools to help you navigate the dos and the don'ts for your own email marketing!  March Marketing Madness   Thursdays @ 2:00 pm   3:00 pm WEBINARS  5-part Webinar Series   registration link for all 5 webinars: https://attendee.gotowebinar.com/register/1751213432905483524  Participants can view the webinar on any computer device\, wi-fi  needed\, and you can use your computer speakers or call in with the phone number and access code provided with your registration. There is no charge to attend each of these webinars\, however\, if you want to receive the recording and slide presentation\, you must attend the webinar at the scheduled time.  Recordings will be sent to each participating attendee.
X-ALT-DESC;FMTTYPE=text/html:<p><span style="font-size:14px\;"><strong>March 3 Professional Email Marketing &ndash\; Look Great in the Inbox</strong></span></p>  <p>First impressions matter &ndash\; how are YOU doing with your emails? This seminar will help you avoid common mistakes and maximize your emails for powerful impact! <strong>Participants will learn:</strong></p>  <ul> 	<li>Branding <em>beyond</em> the logo &ndash\; how placement\, pictures\, even colors can re-inforce recognition &amp\; engagement</li> 	<li>Readability &ndash\; including fonts\, white space and single-column design</li> 	<li>Images &ndash\; including sizing\, placement\, links and more</li> 	<li>Sharability &ndash\; are you going social with your email? Easy tips to encourage more cross-platform engagement</li> </ul>  <p>Join us for this fast\, info-packed seminar packed with tips\, techniques and tools to help you navigate the dos and the don&rsquo\;ts for your own email marketing!</p>  <p><span style="font-size:12px\;"><strong>March Marketing Madness</strong> &ndash\; <strong>Thursdays @ 2:00 pm &ndash\; 3:00 pm WEBINARS</strong></span></p>  <p><span style="font-size:12px\;">5-part Webinar Series </span>&ndash\; registration link for all 5 webinars<span style="font-size:12px\;">: <a href="https://attendee.gotowebinar.com/register/1751213432905483524" target="_blank">https://attendee.gotowebinar.com/register/1751213432905483524</a></span></p>  <p><span style="font-size:12px\;">Participants can view the webinar on any computer device\, wi-fi&nbsp\; needed\, and you can use your computer speakers or call in with the phone number and access code provided with your registration. There is no charge to attend each of these webinars\, however\, if you want to receive the recording and slide presentation\, you must attend the webinar at the scheduled time.</span></p>  <p><span style="font-size:12px\;">Recordings will be sent to each participating attendee.</span></p>  <p>&nbsp\;</p> 
LOCATION:Web Based
UID:e.1531.3360
SEQUENCE:3
DTSTAMP:20260421T071800Z
URL:https://members.psaeger.com/events/details/professional-email-marketing-webinar-03-03-2016-3360
END:VEVENT

END:VCALENDAR
