BEGIN:VCALENDAR
VERSION:2.0
PRODID:-//ChamberMaster//Event Calendar 2.0//EN
METHOD:PUBLISH
X-PUBLISHED-TTL:P3D
REFRESH-INTERVAL:P3D
CALSCALE:GREGORIAN
BEGIN:VEVENT
DTSTART:20160311T023000Z
DTEND:20160311T043000Z
X-MICROSOFT-CDO-ALLDAYEVENT:FALSE
SUMMARY:Poet & Writer Series
DESCRIPTION:Join Lake County Poet Laureate Casey Carney and Richard Schmidt\, Author & Poet at the Main Street Gallery 325 N. Main St. Lakeport for an evening of conversation.    Enjoy appetizers and Lake County Wine while discussing their insights and inspirations  For information call Main Street Gallery 263-6658
X-ALT-DESC;FMTTYPE=text/html:<p class="yiv9936416049" dir="ltr" helvetica="" id="yiv9936416049yui_3_16_0_1_1454104942244_3050" lucida="" style="font-family: HelveticaNeue\,\;"><span style="font-size:18px\;"><span style="color: rgb(51\, 153\, 0)\;"><strong><span class="yiv9936416049" id="yiv9936416049yui_3_16_0_1_1454104942244_3052" lang="en-US">Join Lake County&nbsp\;</span><span class="yiv9936416049" id="yiv9936416049yui_3_16_0_1_1454203115912_7096">Poet Laureate&nbsp\;</span></strong></span></span><span class="yiv9936416049" id="yiv9936416049yui_3_16_0_1_1454203115912_7098" style="font-size: 12pt\;"><span style="color:#339900\;"><strong><span style="font-size:18px\;">Casey Carney and Richard Schmidt\, Author &amp\; Poet</span> </strong></span>at the <strong>Main Street Gallery 325 N. Main St. Lakeport</strong> for an evening of conversation. &nbsp\;</span></p>  <p class="yiv9936416049" dir="ltr" helvetica="" lucida="" style="font-family: HelveticaNeue\,\;"><span class="yiv9936416049" style="font-size: 12pt\;">Enjoy appetizers and Lake County Wine while discussing their insights and inspirations</span></p>  <p dir="ltr"><span class="yiv9936416049" style="font-size: 12pt\;">For information call Main Street Gallery 263-6658</span></p>  <div class="yiv9936416049" dir="ltr" helvetica="" id="yiv9936416049yui_3_16_0_1_1454104942244_3035" lucida="" style="font-family: HelveticaNeue\,\;">&nbsp\;</div> 
LOCATION:Main Street Gallery 325 N. Main St. Lakeport
UID:e.1531.3220
SEQUENCE:3
DTSTAMP:20260421T071747Z
URL:https://members.psaeger.com/events/details/poet-writer-series-03-10-2016-3220
END:VEVENT

END:VCALENDAR
