BEGIN:VCALENDAR
VERSION:2.0
PRODID:-//ChamberMaster//Event Calendar 2.0//EN
METHOD:PUBLISH
X-PUBLISHED-TTL:P3D
REFRESH-INTERVAL:P3D
CALSCALE:GREGORIAN
BEGIN:VEVENT
DTSTART:20160410T173000Z
DTEND:20160410T220000Z
X-MICROSOFT-CDO-ALLDAYEVENT:FALSE
SUMMARY:Paula Samonte at Blue Wing Sunday Brunch
DESCRIPTION:Enjoy a great brunch from 10:30 to 3:00 with live music inside or out in the garden in good weather from 11:30 to 2:00. Music today is by the lovely Ukiah-based vocalist Paula Samonte.
X-ALT-DESC;FMTTYPE=text/html:<p>Enjoy a great brunch from 10:30 to 3:00 with live music inside or out in the garden in good weather from 11:30 to 2:00. Music today is by the lovely Ukiah-based vocalist Paula Samonte.</p> 
LOCATION:Blue Wing Restaurant
UID:e.1531.3380
SEQUENCE:3
DTSTAMP:20260421T054553Z
URL:https://members.psaeger.com/events/details/paula-samonte-at-blue-wing-sunday-brunch-04-10-2016-3380
END:VEVENT

END:VCALENDAR
