BEGIN:VCALENDAR
VERSION:2.0
PRODID:-//ChamberMaster//Event Calendar 2.0//EN
METHOD:PUBLISH
X-PUBLISHED-TTL:P3D
REFRESH-INTERVAL:P3D
CALSCALE:GREGORIAN
BEGIN:VEVENT
DTSTART:20160330T230000Z
DTEND:20160331T010000Z
X-MICROSOFT-CDO-ALLDAYEVENT:FALSE
SUMMARY:Open House at ''The Castle''
DESCRIPTION:Open House at "The Castle"  Marymount California University - Lakeside Campus\, 3700 Country Club Drive\, Lucerne\, CA 95458  Thinking about applying to get a 4 year degree or Master's? Think Marymount California UnIversity!  Curious about "The Castle" in Lucerne?  Come visit!   	Get Information about enrolling in courses at Marymount California University - Lakeside Campus 	Ask questions about the degrees you could earn and the ways to make that degree a reality  	Tour the castle/campus and learn its history 	Learn how to hold a meeting\, event\, fundraiser or party at "The Castle"   Stop by on any of the following dates from 4 PM - 6 PM  March 30  April 13  May 4  June 15  July 13  Aug 9  Reservations not necessary. For more information call (310) 303-7699 (Lucerne Campus)
X-ALT-DESC;FMTTYPE=text/html:<h1><strong>Open House at &quot\;The Castle&quot\;</strong></h1>  <p>Marymount California University - Lakeside Campus\, 3700 Country Club Drive\, Lucerne\, CA 95458</p>  <p><strong><em>Thinking about applying to get a 4 year degree or Master&#39\;s? Think Marymount California UnIversity!</em></strong></p>  <p><strong>Curious about &quot\;The Castle&quot\; in Lucerne?&nbsp\; Come visit!</strong></p>  <ol> 	<li>Get Information about enrolling in courses at Marymount California University - Lakeside Campus</li> 	<li>Ask questions about the degrees you could earn and the ways to make that degree a reality&nbsp\;</li> 	<li>Tour the castle/campus and learn its history</li> 	<li>Learn how to hold a meeting\,&nbsp\;event\, fundraiser or party at &quot\;The Castle&quot\;</li> </ol>  <p>Stop by on any of the following dates from 4 PM - 6 PM</p>  <p>March 30</p>  <p>April 13</p>  <p>May 4</p>  <p>June 15</p>  <p>July 13</p>  <p>Aug 9</p>  <p>Reservations not necessary. For more information call (310) 303-7699 (Lucerne Campus)</p>  <p>&nbsp\;</p>  <p>&nbsp\;</p> 
LOCATION:MArymount California University 3700 Country Club Drive \, Lucerne\, CA
UID:e.1531.3483
SEQUENCE:3
DTSTAMP:20260421T071811Z
URL:https://members.psaeger.com/events/details/open-house-at-the-castle-03-30-2016-3483
END:VEVENT

END:VCALENDAR
