BEGIN:VCALENDAR
VERSION:2.0
PRODID:-//ChamberMaster//Event Calendar 2.0//EN
METHOD:PUBLISH
X-PUBLISHED-TTL:P3D
REFRESH-INTERVAL:P3D
CALSCALE:GREGORIAN
BEGIN:VEVENT
DTSTART:20160424T180000Z
DTEND:20160425T000000Z
X-MICROSOFT-CDO-ALLDAYEVENT:FALSE
SUMMARY:Olive Festival
DESCRIPTION:SAVE THE DATE
X-ALT-DESC;FMTTYPE=text/html:<p>SAVE THE DATE</p> 
LOCATION:Chacewater Wine
UID:e.1531.3255
SEQUENCE:3
DTSTAMP:20260421T054306Z
URL:https://members.psaeger.com/events/details/olive-festival-04-24-2016-3255
END:VEVENT

END:VCALENDAR
