BEGIN:VCALENDAR
VERSION:2.0
PRODID:-//ChamberMaster//Event Calendar 2.0//EN
METHOD:PUBLISH
X-PUBLISHED-TTL:P3D
REFRESH-INTERVAL:P3D
CALSCALE:GREGORIAN
BEGIN:VEVENT
DTSTART:20160413T010000Z
DTEND:20160413T030000Z
X-MICROSOFT-CDO-ALLDAYEVENT:FALSE
SUMMARY:Notorious\, Classic Cinema
DESCRIPTION:The 1946 Alfred Hitchcock espionage thriller "Notorious\," starring Cary Grant and Ingrid Bergman screens at the Soper Reese Theatre in Lakeport on Tuesday\, April 12\, at 1:00 and 6:00 pm.     Sublime direction from Hitchcock and terrific central performances from Ingrid Bergman and Cary Grant make this a bona-fide classic worthy of a re-visit. The virtuoso sequences such as the long kiss and the crane shot into the door key are justly famous\, yet the film's real brilliance is in its subtle portrayal of dangerous relationships. The concluding shot transforms Claude Rains from villain to victim with cool\, tragic force.     The movie is sponsored by the Lake County Chamber of Commerce and is unrated\, with run time of 1 hour 41 minutes.  Entry to the film is by donation.  The Soper Reese Theatre is located at 275 S. Main St.\, Lakeport\, 707-263-0577\, soperreesetheatre.com
X-ALT-DESC;FMTTYPE=text/html:<p>The 1946 Alfred Hitchcock espionage thriller &ldquo\;Notorious\,&rdquo\; starring Cary Grant and Ingrid Bergman screens at the Soper Reese Theatre in Lakeport on Tuesday\, April 12\, at 1:00 and 6:00 pm.</p>  <p>&nbsp\;</p>  <p>Sublime direction from Hitchcock and terrific central performances from Ingrid Bergman and Cary Grant make this a bona-fide classic worthy of a re-visit. The virtuoso sequences such as the long kiss and the crane shot into the door key are justly famous\, yet the film&#39\;s real brilliance is in its subtle portrayal of dangerous relationships. The concluding shot transforms Claude Rains from villain to victim with cool\, tragic force.</p>  <p>&nbsp\;</p>  <p>The movie is sponsored by the Lake County Chamber of Commerce and is unrated\, with run time of 1 hour 41 minutes.&nbsp\; Entry to the film is by donation.&nbsp\; The Soper Reese Theatre is located at 275 S. Main St.\, Lakeport\, 707-263-0577\, soperreesetheatre.com</p> 
LOCATION:Soper Reese Theatre\, 275 S. Main St.\, Lakeport
UID:e.1531.3470
SEQUENCE:3
DTSTAMP:20260421T054325Z
URL:https://members.psaeger.com/events/details/notorious-classic-cinema-04-12-2016-3470
END:VEVENT

END:VCALENDAR
