BEGIN:VCALENDAR
VERSION:2.0
PRODID:-//ChamberMaster//Event Calendar 2.0//EN
METHOD:PUBLISH
X-PUBLISHED-TTL:P3D
REFRESH-INTERVAL:P3D
CALSCALE:GREGORIAN
BEGIN:VEVENT
DTSTART:20160513T143000Z
DTEND:20160514T010000Z
X-MICROSOFT-CDO-ALLDAYEVENT:FALSE
SUMMARY:Northern & Central California Chamber Ambassadors
DESCRIPTION:Lake County Chamber Ambassadors are hosting the Annual Northern & Central California Chamber Ambassador Rally for 2016.  Details are being worked on by the Lake County Chamber Team at this time.
X-ALT-DESC;FMTTYPE=text/html:<p>Lake County Chamber Ambassadors are hosting the Annual&nbsp\;Northern &amp\; Central California Chamber Ambassador Rally for 2016.&nbsp\; Details are being worked on by the Lake County Chamber Team at this time.&nbsp\;</p>  <p>&nbsp\;</p> 
LOCATION:TBD
UID:e.1531.3266
SEQUENCE:3
DTSTAMP:20260421T042348Z
URL:https://members.psaeger.com/events/details/northern-central-california-chamber-ambassadors-05-13-2016-3266
END:VEVENT

END:VCALENDAR
