BEGIN:VCALENDAR
VERSION:2.0
PRODID:-//ChamberMaster//Event Calendar 2.0//EN
METHOD:PUBLISH
X-PUBLISHED-TTL:P3D
REFRESH-INTERVAL:P3D
CALSCALE:GREGORIAN
BEGIN:VEVENT
DTSTART:20160502T013000Z
DTEND:20160502T065900Z
X-MICROSOFT-CDO-ALLDAYEVENT:FALSE
SUMMARY:Noches de Baile
DESCRIPTION:Noches de Baile  Saturday May 7th  Twin Pine Casino & Hotel\, Middletown CA   Play\, Stay and Dance!  Doors Open 6:30 pm /  Show 7:00pm  Tickets $25 - Includes $10 Free Play  Purchase Tickets at :   www.twinpine.com   (fees will apply)  Featuring 3 Bands:  Dinamita  La Nobleza de Aguilla  Enlaze Norte  *Must have valid ID
X-ALT-DESC;FMTTYPE=text/html:<h1 style="text-align: center\;"><span style="color:#800000\;"><strong>Noches de Baile</strong></span></h1>  <p style="text-align: center\;"><strong>Saturday May 7th</strong></p>  <h1 style="text-align: center\;"><span style="color:#800000\;"><strong>Twin Pine Casino &amp\; Hotel\, Middletown CA&nbsp\;</strong></span></h1>  <h1 style="text-align: center\;"><span style="color:#800000\;"><strong>Play\, Stay and Dance!</strong></span></h1>  <p style="text-align: center\;"><strong>Doors Open 6:30 pm / &nbsp\;Show 7:00pm</strong></p>  <p style="text-align: center\;"><strong>Tickets $25 - Includes $10 Free Play</strong></p>  <p style="text-align: center\;"><strong>Purchase Tickets at : &nbsp\;<span style="color:#0000FF\;"> www.twinpine.com</span> &nbsp\; (fees will apply)</strong></p>  <p style="text-align: center\;"><strong>Featuring 3 Bands:</strong></p>  <h1 style="text-align: center\;"><em><strong>Dinamita</strong></em></h1>  <h1 style="text-align: center\;"><em><strong>La Nobleza de Aguilla</strong></em></h1>  <h1 style="text-align: center\;"><em><strong>Enlaze Norte</strong></em></h1>  <p style="text-align: right\;"><strong>*Must have valid ID</strong></p> 
LOCATION:Twin Pine Casino & Hotel Event Center
UID:e.1531.3735
SEQUENCE:3
DTSTAMP:20260421T042056Z
URL:https://members.psaeger.com/events/details/noches-de-baile-05-01-2016-3735
END:VEVENT

END:VCALENDAR
