BEGIN:VCALENDAR
VERSION:2.0
PRODID:-//ChamberMaster//Event Calendar 2.0//EN
METHOD:PUBLISH
X-PUBLISHED-TTL:P3D
REFRESH-INTERVAL:P3D
CALSCALE:GREGORIAN
BEGIN:VEVENT
DTSTART:20160409T010000Z
DTEND:20160409T030000Z
X-MICROSOFT-CDO-ALLDAYEVENT:FALSE
SUMMARY:New Lake County Poet Laureate
DESCRIPTION:A New Poet Laureate for Lake County  Sponsored by the Lake County Arts Council\, the Riviera Common Grounds Coffee House\, and the Saw Shop Gallery Bistro.   Free admission. Donations accepted on behalf of the Lake County Arts Council.  Reading and selection event for the 2016-2018 Lake County Poet Laureate\, featuring the Lake County Poets Laureate Emeriti\, application finalists\, and guest musician Sarah Ryan. Concluding with the announcement of the 2016-2018 Lake County Poet Laureate.  Current and Past Lake County Poets Laureate from 1998: Jim Lyle\, James Bluewolf\, Carolyn Wing Greenlee\, Sandra Wade\, Mary McMillan\, Russell Gonzaga\, Elaine Watt\, Casey Carney
X-ALT-DESC;FMTTYPE=text/html:<p><a name="_GoBack"></a>A New Poet Laureate for Lake County</p>  <p>Sponsored by the Lake County Arts Council\, the Riviera Common Grounds Coffee House\, and the Saw Shop Gallery Bistro.&nbsp\;</p>  <p>Free admission. Donations accepted on behalf of the Lake County Arts Council.</p>  <p>Reading and selection event for the 2016-2018 Lake County Poet Laureate\, featuring the Lake County Poets Laureate Emeriti\, application finalists\, and guest musician Sarah Ryan. Concluding with the announcement of the 2016-2018 Lake County Poet Laureate.</p>  <p>Current and Past Lake County Poets Laureate from 1998: Jim Lyle\, James Bluewolf\, Carolyn Wing Greenlee\, Sandra Wade\, Mary McMillan\, Russell Gonzaga\, Elaine Watt\, Casey Carney</p> 
LOCATION:Soper Reese Theatre\, 275 S. Main St.\, Lakeport
UID:e.1531.3459
SEQUENCE:3
DTSTAMP:20260421T054551Z
URL:https://members.psaeger.com/events/details/new-lake-county-poet-laureate-04-08-2016-3459
END:VEVENT

END:VCALENDAR
