BEGIN:VCALENDAR
VERSION:2.0
PRODID:-//ChamberMaster//Event Calendar 2.0//EN
METHOD:PUBLISH
X-PUBLISHED-TTL:P3D
REFRESH-INTERVAL:P3D
CALSCALE:GREGORIAN
BEGIN:VEVENT
DTSTART:20160514T180000Z
DTEND:20160515T010000Z
X-MICROSOFT-CDO-ALLDAYEVENT:FALSE
SUMMARY:Muskets & Cannon & Scarlett Oh My
DESCRIPTION:Gibson Museum & Cultural Center will present Muskets & Cannon & Scarlett Oh My!\, a look at life in the 1860's on Saturday\, May 14th.  The event takes place at the Middletown Mansion\, 20650 Highway 29 in Middletown.  Gates open at 11am and Skirmishes by the American Civil War Association will be at 1 and 3pm.  Music of the period will be presented by David Neft\, Don Coffin and Andi Skelton\; history of the era by Gene Paleno\; appetizers and local wines served by "Southern Belles" in Scarlett O'Hara gowns\; a demonstration of how hard ladies of that period worked to dress\; raffles\; a silent auction and more!  Adult $60\; seniors $50\; students $25\; children under 10 are free.  Tickets at the gate if available\, will be $65\, $55 and $30.  Linda Moran 987-2045  Judy Kauffman 987-2433
X-ALT-DESC;FMTTYPE=text/html:<h2>Gibson Museum &amp\; Cultural Center will present <em>Muskets &amp\; Cannon &amp\; Scarlett Oh My!</em>\, a look at life in the 1860&#39\;s on Saturday\, May 14th.&nbsp\; The event takes place at the Middletown Mansion\, 20650 Highway 29 in Middletown.</h2>  <h3>Gates open at 11am and Skirmishes by the American Civil War Association will be at 1 and 3pm.</h3>  <h3>Music of the period will be presented by David Neft\, Don Coffin and Andi Skelton\; history of the era by Gene Paleno\; appetizers and local wines served by &quot\;Southern Belles&quot\; in Scarlett O&#39\;Hara gowns\; a demonstration of how hard ladies of that period worked to dress\; raffles\; a silent auction and more!</h3>  <h3>Adult $60\; seniors $50\; students $25\; children under 10 are free.&nbsp\; Tickets at the gate if available\, will be $65\, $55 and $30.</h3>  <p>Linda Moran 987-2045</p>  <p>Judy Kauffman 987-2433</p>  <h3>&nbsp\;</h3>  <p>&nbsp\;</p> 
LOCATION:Middletown Mansion
UID:e.1531.3484
SEQUENCE:3
DTSTAMP:20260421T042349Z
URL:https://members.psaeger.com/events/details/muskets-cannon-scarlett-oh-my-05-14-2016-3484
END:VEVENT

END:VCALENDAR
