BEGIN:VCALENDAR
VERSION:2.0
PRODID:-//ChamberMaster//Event Calendar 2.0//EN
METHOD:PUBLISH
X-PUBLISHED-TTL:P3D
REFRESH-INTERVAL:P3D
CALSCALE:GREGORIAN
BEGIN:VEVENT
DTSTART:20160511T010000Z
DTEND:20160511T033000Z
X-MICROSOFT-CDO-ALLDAYEVENT:FALSE
SUMMARY:-Music Man Classic Film
DESCRIPTION:Robert Preston and Shirley Jones are note perfect in this bright musical even non-musical fans will enjoy. Released in 1962 and nominated for Best Picture\, "The Music Man" features the original Broadway score of Meredith Willson including Marian\, the Librarian\; Ya Got Trouble (Right Here in River City) and 76 Trombones. It screens at the Soper Reese Theatre in Lakeport on Tuesday\, May 10\, at 1:00 and 6:00 pm.  The movie is sponsored by Anne Barquist and Hospice Services of Lake County.  It is rated G with run time of 2 hours 31 minutes.  Entry to the film is by donation.  The Soper Reese Theatre is located at 275 S. Main St.\, Lakeport\, 707-263-0577\, soperreesetheatre.com.
X-ALT-DESC;FMTTYPE=text/html:<p>Robert Preston and Shirley Jones are note perfect in this bright musical even non-musical fans will enjoy. Released in 1962 and nominated for Best Picture\, &ldquo\;The Music Man&rdquo\; features the original Broadway score of Meredith Willson including Marian\, the Librarian\; Ya Got Trouble (Right Here in River City) and 76 Trombones. It screens at the Soper Reese Theatre in Lakeport on Tuesday\, May 10\, at 1:00 and 6:00 pm.</p>  <p>The movie is sponsored by Anne Barquist and Hospice Services of Lake County.&nbsp\; It is rated G with run time of 2 hours 31 minutes.&nbsp\; Entry to the film is by donation.&nbsp\; The Soper Reese Theatre is located at 275 S. Main St.\, Lakeport\, 707-263-0577\, soperreesetheatre.com.&nbsp\;</p> 
LOCATION:Soper Reese Theatre\, 275 S. Main St.\, Lakeport
UID:e.1531.3736
SEQUENCE:3
DTSTAMP:20260421T042232Z
URL:https://members.psaeger.com/events/details/music-man-classic-film-05-10-2016-3736
END:VEVENT

END:VCALENDAR
