BEGIN:VCALENDAR
VERSION:2.0
PRODID:-//ChamberMaster//Event Calendar 2.0//EN
METHOD:PUBLISH
X-PUBLISHED-TTL:P3D
REFRESH-INTERVAL:P3D
CALSCALE:GREGORIAN
BEGIN:VEVENT
DTSTART:20160508T220000Z
DTEND:20160509T003000Z
X-MICROSOFT-CDO-ALLDAYEVENT:FALSE
SUMMARY:Mothers' Day Concert
DESCRIPTION:Lake County Symphony  Mother's Day Pops Concert  11:00 am rehearsal open to public  3:00 pm concert  Highlights from your favorite films and musicals.  Plus Leroy Anderson's Clarinet Candy\, Bugler's Holiday and Fiddle Faddle. (The latter are not from films/musicals).  Also featuring the LCSA Youth Orchestra.  Ticket Prices  For rehearsal: $5 all seats\; 18 and under free  For concert: $25 for general assigned seats\; $30 for Premium assigned seats\; $5 discount for Symphony Association members
X-ALT-DESC;FMTTYPE=text/html:<p>Lake County Symphony</p>  <p>Mother&#39\;s Day Pops Concert</p>  <p>11:00 am rehearsal open to public</p>  <p>3:00 pm concert</p>  <p>Highlights from your favorite films and musicals.&nbsp\; Plus Leroy Anderson&#39\;s Clarinet Candy\, Bugler&#39\;s Holiday and Fiddle Faddle. (The latter are not from films/musicals). &nbsp\;Also featuring the LCSA Youth Orchestra.</p>  <p><u>Ticket Prices</u></p>  <p>For rehearsal:&nbsp\;$5 all seats\; 18 and under free</p>  <p>For concert:&nbsp\;$25 for general assigned seats\;&nbsp\;$30 for Premium assigned seats\;&nbsp\;$5 discount for Symphony Association members</p> 
LOCATION:Soper Reese Theatre\, 275 S. Main St.\, Lakeport
UID:e.1531.3729
SEQUENCE:3
DTSTAMP:20260421T042139Z
URL:https://members.psaeger.com/events/details/mothers-day-concert-05-08-2016-3729
END:VEVENT

END:VCALENDAR
