BEGIN:VCALENDAR
VERSION:2.0
PRODID:-//ChamberMaster//Event Calendar 2.0//EN
METHOD:PUBLISH
X-PUBLISHED-TTL:P3D
REFRESH-INTERVAL:P3D
CALSCALE:GREGORIAN
BEGIN:VEVENT
DTSTART:20160528T180000Z
DTEND:20160528T220000Z
X-MICROSOFT-CDO-ALLDAYEVENT:FALSE
SUMMARY:Memorial Day Parade
DESCRIPTION:Applications available at the Lake County Chamber of Commerce office at 875 Lakeport Blvd.\, Lakeport.  The theme this year is\, "Lake County Strong".
X-ALT-DESC;FMTTYPE=text/html:<p>Applications available at the Lake County Chamber of Commerce office at 875 Lakeport Blvd.\, Lakeport. &nbsp\;The theme this year is\, &quot\;Lake County Strong&quot\;.</p> 
LOCATION:Main Street\, Lakeport
UID:e.1531.3279
SEQUENCE:3
DTSTAMP:20260421T042054Z
URL:https://members.psaeger.com/events/details/memorial-day-parade-05-28-2016-3279
END:VEVENT

END:VCALENDAR
