BEGIN:VCALENDAR
VERSION:2.0
PRODID:-//ChamberMaster//Event Calendar 2.0//EN
METHOD:PUBLISH
X-PUBLISHED-TTL:P3D
REFRESH-INTERVAL:P3D
CALSCALE:GREGORIAN
BEGIN:VEVENT
DTSTART:20160409T003000Z
DTEND:20160409T023000Z
X-MICROSOFT-CDO-ALLDAYEVENT:FALSE
SUMMARY:Meet the Candidates
DESCRIPTION:The public is invited to a casual networking reception to allow them to get to know the candidates for county offices.  You will have the opportunity to speak directly with the 2016 Lake County Board of Supervisors Candidates about what is important to YOU.  Friday\, April 8th from 5:30pm to 7:30pm\, join us at Black Rock Golf Course & Restaurant at 16451 Golf Road\, Cobb.  Please register by email at CGVC@calpine.com or call 987-4270     ALSO - SAVE THE DATE for these Candidate Forums:  Thursday\, April 21 - District 1 Supervisor Candidate Forum at 6PM\, Calpine Geothermal Visitor Center\, 15500 Central Park Road\, Middletown  Thursday\, April 28 - District 5 Supervisor Candidate Forum at 6PM\, Black Rock Golf Course & Restaurant\, 16451 Golf Road\, Cobb.  Thursday\, May 5 - District 4 Supervisor Candidate Forum at 6PM\, Supervisors Chambers\, 255 Forbes Street\, Lakeport
X-ALT-DESC;FMTTYPE=text/html:<p>The public is invited to a casual networking reception to allow them to get to know the candidates for county offices.&nbsp\; You will have the opportunity to speak directly with the 2016 Lake County Board of Supervisors Candidates about what is important to YOU.</p>  <p>Friday\, April 8th from 5:30pm to 7:30pm\, join us at Black Rock Golf Course &amp\; Restaurant at 16451 Golf Road\, Cobb.</p>  <p>Please register by email at <a href="mailto:CGVC@calpine.com">CGVC@calpine.com</a> or call 987-4270</p>  <p>&nbsp\;</p>  <p>ALSO - SAVE THE DATE for these Candidate Forums:</p>  <p>Thursday\, April 21 - District 1 Supervisor Candidate Forum at 6PM\, Calpine Geothermal Visitor Center\, 15500 Central Park Road\, Middletown</p>  <p>Thursday\, April 28 - District 5 Supervisor Candidate Forum at 6PM\, Black Rock Golf Course &amp\; Restaurant\, 16451 Golf Road\, Cobb.</p>  <p>Thursday\, May 5 - District 4 Supervisor Candidate Forum at 6PM\, Supervisors Chambers\, 255 Forbes Street\, Lakeport</p> 
LOCATION:Black Rock Golf Course
UID:e.1531.3478
SEQUENCE:3
DTSTAMP:20260421T054410Z
URL:https://members.psaeger.com/events/details/meet-the-candidates-04-08-2016-3478
END:VEVENT

END:VCALENDAR
