BEGIN:VCALENDAR
VERSION:2.0
PRODID:-//ChamberMaster//Event Calendar 2.0//EN
METHOD:PUBLISH
X-PUBLISHED-TTL:P3D
REFRESH-INTERVAL:P3D
CALSCALE:GREGORIAN
BEGIN:VEVENT
DTSTART:20160430T180000Z
DTEND:20160430T213000Z
X-MICROSOFT-CDO-ALLDAYEVENT:FALSE
SUMMARY:LWCC Mad Hatter's Casino Royale
DESCRIPTION:Save the Date
X-ALT-DESC;FMTTYPE=text/html:<h1 style="text-align: center\;">&nbsp\;</h1>  <h1 style="text-align: center\;"><span style="color:#0000FF\;">Save the Date</span></h1> 
LOCATION:Twin Pine Casino & Hotel
UID:e.1531.3258
SEQUENCE:3
DTSTAMP:20260421T054518Z
URL:https://members.psaeger.com/events/details/lwcc-mad-hatter-s-casino-royale-04-30-2016-3258
END:VEVENT

END:VCALENDAR
