BEGIN:VCALENDAR
VERSION:2.0
PRODID:-//ChamberMaster//Event Calendar 2.0//EN
METHOD:PUBLISH
X-PUBLISHED-TTL:P3D
REFRESH-INTERVAL:P3D
CALSCALE:GREGORIAN
BEGIN:VEVENT
DTSTART:20160528T020000Z
DTEND:20160528T050000Z
X-MICROSOFT-CDO-ALLDAYEVENT:FALSE
SUMMARY:Live Music at O'Meara Bros
DESCRIPTION:Enjoy FREE live music EVERY FRIDAY at O'Meara Bros. Brewing Company in Lakeport! Wonderful local and regional talent at no charge\, every friday! Music starts at 7pm.  O'Meara Bros. is a Micro-brewery and Restaurant\, serving high quality pub grub and the finest house-made beer. We'll see you soon for a pint!  901 Bevins St. in Lakport | 707.262.1234 | omearabros.com
X-ALT-DESC;FMTTYPE=text/html:<p>Enjoy FREE&nbsp\;live music EVERY FRIDAY at O&#39\;Meara Bros. Brewing Company in Lakeport! Wonderful local and regional talent at no charge\, every friday! Music starts at 7pm.</p>  <p>O&#39\;Meara Bros. is a Micro-brewery and Restaurant\, serving high quality pub grub and the finest house-made beer. We&#39\;ll see you soon for a pint!</p>  <p>901 Bevins St. in Lakport | 707.262.1234 | omearabros.com</p> 
LOCATION:901 Bevins St\, Lakeport
UID:e.1531.3278
SEQUENCE:3
DTSTAMP:20260421T042254Z
URL:https://members.psaeger.com/events/details/live-music-at-o-meara-bros-05-27-2016-3278
END:VEVENT

END:VCALENDAR
