BEGIN:VCALENDAR
VERSION:2.0
PRODID:-//ChamberMaster//Event Calendar 2.0//EN
METHOD:PUBLISH
X-PUBLISHED-TTL:P3D
REFRESH-INTERVAL:P3D
CALSCALE:GREGORIAN
BEGIN:VEVENT
DTSTART:20160319T010000Z
DTEND:20160319T040000Z
X-MICROSOFT-CDO-ALLDAYEVENT:FALSE
SUMMARY:Live Music
DESCRIPTION:Billy Watson and The International Silver String Submarine Band live at Kelsey Creek Brewing
X-ALT-DESC;FMTTYPE=text/html:<p>Billy Watson and The International Silver String Submarine Band live at Kelsey Creek Brewing</p> 
LOCATION:Kelsey Creek Brewing
UID:e.1531.3441
SEQUENCE:3
DTSTAMP:20260421T071637Z
URL:https://members.psaeger.com/events/details/live-music-03-18-2016-3441
END:VEVENT

END:VCALENDAR
