BEGIN:VCALENDAR
VERSION:2.0
PRODID:-//ChamberMaster//Event Calendar 2.0//EN
METHOD:PUBLISH
X-PUBLISHED-TTL:P3D
REFRESH-INTERVAL:P3D
CALSCALE:GREGORIAN
BEGIN:VEVENT
DTSTART:20160417T010000Z
DTEND:20160417T060000Z
X-MICROSOFT-CDO-ALLDAYEVENT:FALSE
SUMMARY:LEEF Party with a Purpose w/Funky Dozen
DESCRIPTION:Lakeport Enhanced Education Foundation's annual fundraiser.  DInner catered by Fresh N Banging and dancing to the Funky Dozen following the auction.  Tickets are available at the Terrace School Office\, the Clear Lake High School Office\, or Linda's Hallmark.
X-ALT-DESC;FMTTYPE=text/html:<p>Lakeport Enhanced Education Foundation&#39\;s annual fundraiser. &nbsp\;DInner catered by Fresh N Banging and dancing to the Funky Dozen following the auction. &nbsp\;Tickets are available at the Terrace School Office\, the Clear Lake High School Office\, or Linda&#39\;s Hallmark.</p> 
LOCATION:Lewis Hall\, Fairgrounds
UID:e.1531.3453
SEQUENCE:3
DTSTAMP:20260421T054438Z
URL:https://members.psaeger.com/events/details/leef-party-with-a-purpose-w-funky-dozen-04-16-2016-3453
END:VEVENT

END:VCALENDAR
