BEGIN:VCALENDAR
VERSION:2.0
PRODID:-//ChamberMaster//Event Calendar 2.0//EN
METHOD:PUBLISH
X-PUBLISHED-TTL:P3D
REFRESH-INTERVAL:P3D
CALSCALE:GREGORIAN
BEGIN:VEVENT
DTSTART:20160611T220000Z
DTEND:20160612T020000Z
X-MICROSOFT-CDO-ALLDAYEVENT:FALSE
SUMMARY:LC Fire Recovery Blues Benefit #2a
DESCRIPTION:LAKE COUNTY FIRE RECOVERY BLUES BENEFIT #2A:  Rescheduled from May 21 due to rain!  Benefit for Hope City to rebuild homes lost to the Valley Fire with insufficient insurance.  Outdoor blues concert with local crafts\, food\, wine & beer\, raffles\, silent wine auction\, info booths.  Gates open: 2 pm  Music: 3-7 pm by: 62 Blues\, Henry Oden Band featuring Rich Kirch\, Craig Caffall\, Lady Bianca   Tix: $15 cash at the gate (no advance tix)  12 and under Free!  Bring lawn chairs\, hats\, sunshade.  Carpooling recommended.  Free hayrides\, ATV and golf cart transport to the field.  Parking near the barn for those who need close access.  ADA accommodations available.    Please leave disposable glass bottles\, alcohol\, pets at home.  Service dogs allowed.  For more info:  707-278-7126  On Facebook:  Lake County Fire Recovery Blues Benefits
X-ALT-DESC;FMTTYPE=text/html:<p><span style="font-size:14px\;"><strong>LAKE COUNTY FIRE RECOVERY BLUES BENEFIT #2A</strong></span>: &nbsp\;<em>Rescheduled from May 21 due to rain!</em></p>  <p>Benefit for Hope City to rebuild homes lost to the Valley Fire with insufficient insurance. &nbsp\;Outdoor blues concert with&nbsp\;local crafts\, food\, wine &amp\; beer\, raffles\, silent wine auction\, info booths.</p>  <p>Gates open: 2 pm &nbsp\;Music: 3-7 pm by: 62 Blues\, Henry Oden Band featuring Rich Kirch\, Craig Caffall\, Lady Bianca &nbsp\; Tix: $15 cash at the gate (no advance tix) &nbsp\;12 and under Free!</p>  <p>Bring lawn chairs\, hats\, sunshade. &nbsp\;Carpooling recommended. &nbsp\;Free hayrides\, ATV and golf cart transport to the field. &nbsp\;Parking near the barn for those who need close access. &nbsp\;ADA accommodations available. &nbsp\;</p>  <p>Please leave disposable glass bottles\, alcohol\, pets at home. &nbsp\;Service dogs allowed.</p>  <p>For more info: &nbsp\;707-278-7126 &nbsp\;On Facebook: &nbsp\;Lake County Fire Recovery Blues Benefits</p> 
LOCATION:Ely Stage Stop\, 9921 Soda Bay Rd\, Kelseyville
UID:e.1531.3746
SEQUENCE:3
DTSTAMP:20260421T023321Z
URL:https://members.psaeger.com/events/details/lc-fire-recovery-blues-benefit-2a-06-11-2016-3746
END:VEVENT

END:VCALENDAR
