BEGIN:VCALENDAR
VERSION:2.0
PRODID:-//ChamberMaster//Event Calendar 2.0//EN
METHOD:PUBLISH
X-PUBLISHED-TTL:P3D
REFRESH-INTERVAL:P3D
CALSCALE:GREGORIAN
BEGIN:VEVENT
DTSTART:20160306T033000Z
DTEND:20160306T050000Z
X-MICROSOFT-CDO-ALLDAYEVENT:FALSE
SUMMARY:Laura Reynolds Ensemble in Tallman Concert
DESCRIPTION:The Tallman Concerts with Conversation is a series of intimate but informal concerts held for an audience of about 40 people in the Meeting House next to the Tallman Hotel.  The monthly winter-spring concerts are in a variety of genres and feature some of the top musicians in Northern California.  Tickets at $25 + tax are available at the Tallman Reception Desk (707) 275-2244 ext. 0.  Tonight's chamber music concert features Sonoma State's Laura Reynolds on oboe together with Eva vonBahr on bassoon\, Kymry Esainko on piano and local musicians Tom and Beth Aiken.
X-ALT-DESC;FMTTYPE=text/html:<p>The Tallman Concerts with Conversation is a series of intimate but informal concerts held for an audience of about 40 people in the Meeting House next to the Tallman Hotel.&nbsp\; The monthly winter-spring concerts are in a variety of genres and feature some of the top musicians in Northern California.&nbsp\; Tickets at $25 + tax are available at the Tallman Reception Desk (707) 275-2244 ext. 0.&nbsp\; Tonight&#39\;s chamber music concert features Sonoma State&#39\;s Laura Reynolds on oboe together with Eva vonBahr on bassoon\, Kymry Esainko on piano and local musicians Tom and Beth Aiken.</p> 
LOCATION:Tallman Hotel
UID:e.1531.3212
SEQUENCE:3
DTSTAMP:20260421T072441Z
URL:https://members.psaeger.com/events/details/laura-reynolds-ensemble-in-tallman-concert-03-05-2016-3212
END:VEVENT

END:VCALENDAR
