BEGIN:VCALENDAR
VERSION:2.0
PRODID:-//ChamberMaster//Event Calendar 2.0//EN
METHOD:PUBLISH
X-PUBLISHED-TTL:P3D
REFRESH-INTERVAL:P3D
CALSCALE:GREGORIAN
BEGIN:VEVENT
DTSTART:20160813T150000Z
DTEND:20160814T000000Z
X-MICROSOFT-CDO-ALLDAYEVENT:FALSE
SUMMARY:Lakeside Hot Car & Boat Show
DESCRIPTION:The second annual Lakeside Hot Car & Boat Show will be held right in downtown Lakeport with hundreds of vintage cars of all types and the hottest boats to hit the water.   We plan to have vendors for food and fun\, a pin-up girl contest and music by Sounds Like FUN! Entertainment all day. Then we'll cruise to the drive in at night. Proceeds from this show benefit Operation Tango Mike.   Make sure you don't miss the pass-bys of the hot boats\, something you'll want to see and hear!  For more information: www.curbside.tv/lakeboatshow
X-ALT-DESC;FMTTYPE=text/html:<p>The second annual Lakeside Hot Car &amp\; Boat Show will be held right in downtown Lakeport with hundreds of vintage cars of all types and the hottest boats to hit the water.&nbsp\;</p>  <p>We plan to have vendors for food and fun\, a pin-up girl contest and music by Sounds Like FUN! Entertainment all day. Then we&#39\;ll cruise to the drive in at night. Proceeds from this show benefit Operation Tango Mike.&nbsp\;</p>  <p>Make sure you don&#39\;t miss the pass-bys of the hot boats\, something you&#39\;ll want to see and hear!</p>  <p>For more information: www.curbside.tv/lakeboatshow</p> 
LOCATION:Lakeport
UID:e.1531.3319
SEQUENCE:3
DTSTAMP:20260420T230114Z
URL:https://members.psaeger.com/events/details/lakeside-hot-car-boat-show-08-13-2016-3319
END:VEVENT

END:VCALENDAR
