BEGIN:VCALENDAR
VERSION:2.0
PRODID:-//ChamberMaster//Event Calendar 2.0//EN
METHOD:PUBLISH
X-PUBLISHED-TTL:P3D
REFRESH-INTERVAL:P3D
CALSCALE:GREGORIAN
BEGIN:VEVENT
DTSTART:20160410T020000Z
DTEND:20160410T050000Z
X-MICROSOFT-CDO-ALLDAYEVENT:FALSE
SUMMARY:Lake Friends of NRA 10th Annual Banquet & Auction
DESCRIPTION:10th Annual Banquet & Auction  Saturday April 9th @ 7pm  Fritch Hall\, Lake County Fairgrounds     Reserve your seat at the Table of Patriots  Why: to support shooting sports\, youth programs\, public safety and to maintain shooting facilities and create new shooting facilities and create new shooting ranges.
X-ALT-DESC;FMTTYPE=text/html:<p style="text-align: center\;">10th Annual Banquet &amp\; Auction</p>  <p style="text-align: center\;">Saturday April 9th @ 7pm</p>  <p style="text-align: center\;">Fritch Hall\, Lake County Fairgrounds</p>  <p style="text-align: center\;">&nbsp\;</p>  <p style="text-align: center\;">Reserve your seat at the Table of Patriots</p>  <p>Why: to support shooting sports\, youth programs\, public safety and to maintain shooting facilities and create new shooting facilities and create new shooting ranges.</p>  <p>&nbsp\;</p> 
LOCATION:Fritch Hall\, Lake County Fairgrounds
UID:e.1531.3250
SEQUENCE:3
DTSTAMP:20260421T055036Z
URL:https://members.psaeger.com/events/details/lake-friends-of-nra-10th-annual-banquet-auction-04-09-2016-3250
END:VEVENT

END:VCALENDAR
